BEGIN:VCALENDAR
VERSION:2.0
PRODID:-//Boconnoc House &amp; Estate | Wedding Venue and Accommodation Cornwall - ECPv6.15.18//NONSGML v1.0//EN
CALSCALE:GREGORIAN
METHOD:PUBLISH
X-ORIGINAL-URL:https://boconnoc.com
X-WR-CALDESC:Events for Boconnoc House &amp; Estate | Wedding Venue and Accommodation Cornwall
REFRESH-INTERVAL;VALUE=DURATION:PT1H
X-Robots-Tag:noindex
X-PUBLISHED-TTL:PT1H
BEGIN:VTIMEZONE
TZID:Europe/London
BEGIN:DAYLIGHT
TZOFFSETFROM:+0000
TZOFFSETTO:+0100
TZNAME:BST
DTSTART:20230326T010000
END:DAYLIGHT
BEGIN:STANDARD
TZOFFSETFROM:+0100
TZOFFSETTO:+0000
TZNAME:GMT
DTSTART:20231029T010000
END:STANDARD
BEGIN:DAYLIGHT
TZOFFSETFROM:+0000
TZOFFSETTO:+0100
TZNAME:BST
DTSTART:20240331T010000
END:DAYLIGHT
BEGIN:STANDARD
TZOFFSETFROM:+0100
TZOFFSETTO:+0000
TZNAME:GMT
DTSTART:20241027T010000
END:STANDARD
BEGIN:DAYLIGHT
TZOFFSETFROM:+0000
TZOFFSETTO:+0100
TZNAME:BST
DTSTART:20250330T010000
END:DAYLIGHT
BEGIN:STANDARD
TZOFFSETFROM:+0100
TZOFFSETTO:+0000
TZNAME:GMT
DTSTART:20251026T010000
END:STANDARD
END:VTIMEZONE
BEGIN:VEVENT
DTSTART;TZID=Europe/London:20240208T190000
DTEND;TZID=Europe/London:20240208T223000
DTSTAMP:20260421T101718
CREATED:20231214T133918Z
LAST-MODIFIED:20231214T134946Z
UID:25732-1707418800-1707431400@boconnoc.com
SUMMARY:Dive Project Cornwall Fundraising Dinner and Auction
DESCRIPTION:Join the team behind the Dive Project Cornwall\, led by founder Andy Forster\, for a fundraising dinner at Boconnoc House. \nDive Project Cornwall is a not-for-profit Community Interest Company that supports the mental health and well-being of young people who visit the project. Launched in 2022\, the project has provided the experience of a lifetime to 400 young people\, giving them a new sense of confidence and purpose. Every penny raised through donations is reinvested in our unique learning programme. \nDive Project Cornwall provides a unique opportunity for students to learn the basics of scuba diving while gaining an appreciation for the natural marine world. This experience helps young people discover more about themselves by facing challenges and embracing new skills that will benefit them in their everyday lives. During their stay at the Dive Project Cornwall Basecamp\, students can enjoy the benefits of a fully equipped campsite with ocean views\, stargazing\, campfires\, and excellent cooking. The project reduces screen time\, encourages connection with the natural world and the people around us\, and teaches us to appreciate the present moment. \n“We have just returned from what has been the most amazing week of school ever. Twenty of our students are now fully fledged “Ocean Influencers”.  The students have returned as completely different individuals. They have become more resilient and have developed their social skills in a way they would not have achieved in the traditional classroom.”  \nTeacher at Sir James Smith School\, North Cornwall Learning Trust. \nhttps://www.diveprojectcornwall.co.uk \n  \nYOUR HOSTS \nCome and meet the team from Dive Project Cornwall and learn more about our work and its positive impact on young people from across the UK. \nHEAD CHEF \nEx-Executive Chef for Rick Stein\, Stephane Delourme\, will be in the kitchen leading a team of renowned chefs; details of precisely who will be revealed…  \nTHE EVENING \n7 pm – Welcome drink on arrival \n7.30 pm – 4-course dinner with complimentary wine \n9.30 pm – “The work of Dive Project Cornwall” presentation  \n9:45 pm – Auction of 7+ lots \n10:30 pm – Finish \n  \nTICKETS \n£110 per person/ticket \nTable for ten people £1\,000 \n  \nTo purchase tickets or find out more about the event\, please contact: \n  \nAndy Forster\, Project Director \nDive Project Cornwall \n07711 160590 \nandy@diveprojectcornwall.co.uk \n  \nhttps://www.diveprojectcornwall.co.uk \n 
URL:https://boconnoc.com/event/dive-project-cornwall-fundraising-dinner-and-auction/
LOCATION:Boconnoc House
ATTACH;FMTTYPE=image/webp:https://boconnoc.com/wp-content/uploads/2023/12/8da7b2_4a5a23991cef44a7842c95cb1e1b0543mv2.jpg.webp
END:VEVENT
END:VCALENDAR