BEGIN:VCALENDAR
VERSION:2.0
PRODID:-//Boconnoc House &amp; Estate | Wedding Venue and Accommodation Cornwall - ECPv6.15.18//NONSGML v1.0//EN
CALSCALE:GREGORIAN
METHOD:PUBLISH
X-ORIGINAL-URL:https://boconnoc.com
X-WR-CALDESC:Events for Boconnoc House &amp; Estate | Wedding Venue and Accommodation Cornwall
REFRESH-INTERVAL;VALUE=DURATION:PT1H
X-Robots-Tag:noindex
X-PUBLISHED-TTL:PT1H
BEGIN:VTIMEZONE
TZID:Europe/London
BEGIN:DAYLIGHT
TZOFFSETFROM:+0000
TZOFFSETTO:+0100
TZNAME:BST
DTSTART:20220327T010000
END:DAYLIGHT
BEGIN:STANDARD
TZOFFSETFROM:+0100
TZOFFSETTO:+0000
TZNAME:GMT
DTSTART:20221030T010000
END:STANDARD
BEGIN:DAYLIGHT
TZOFFSETFROM:+0000
TZOFFSETTO:+0100
TZNAME:BST
DTSTART:20230326T010000
END:DAYLIGHT
BEGIN:STANDARD
TZOFFSETFROM:+0100
TZOFFSETTO:+0000
TZNAME:GMT
DTSTART:20231029T010000
END:STANDARD
BEGIN:DAYLIGHT
TZOFFSETFROM:+0000
TZOFFSETTO:+0100
TZNAME:BST
DTSTART:20240331T010000
END:DAYLIGHT
BEGIN:STANDARD
TZOFFSETFROM:+0100
TZOFFSETTO:+0000
TZNAME:GMT
DTSTART:20241027T010000
END:STANDARD
END:VTIMEZONE
BEGIN:VEVENT
DTSTART;TZID=Europe/London:20231205T100000
DTEND;TZID=Europe/London:20231205T120000
DTSTAMP:20260421T132834
CREATED:20230810T112406Z
LAST-MODIFIED:20230810T112406Z
UID:24960-1701770400-1701777600@boconnoc.com
SUMMARY:Seasonal Wreath Making Workshop
DESCRIPTION:Join us for a seasonal wreath making workshop hosted by the super talented Rebecca Stuart from The Garden Gate Flower co. \nForage in the beautiful grounds of Boconnoc for leaves\, ferns and foliage before heading to the candle lit Stable Yard to create your own beautifully festive wreath. \nEverything will be provided for you to make your own door wreath and Rebecca will guide you through the step-by-step process to create something you truly love. \nWe think this workshop would be a lovely activity to do with a friend or family member\, get together\, share a fun morning creating and reconnecting with nature.  \nTea\, coffee and delicious homemade mince pies will be provided. \n  \nBUY TICKETS \n  \nAbout Rebecca  \n“The Garden Gate Flower Company is a sustainable\, environmentally conscious garden and floral design studio based in Cornwall. Rebecca has a passion for design and colour\, she loves to create arrangements that echo the nature in which they have be grown and the environment they will be destined for.  \nRebecca started her floral design business in 2010 and wanted to bring her experience of colour theory into her creations. With a background in textiles\, Rebecca creates arrangements in layers of colour using the best seasonal ingredients from her garden and her network of British growers. The Garden Gate Flower Company has worked on hundreds of weddings and events both here in the UK and in Europe.”  \nhttp://www.thegardengateflowercompany.co.uk/ \nDisclaimer: There will be a professional photographer taking photos at this event.
URL:https://boconnoc.com/event/seasonal-wreath-making-workshop-2/
LOCATION:Boconnoc House
ATTACH;FMTTYPE=image/jpeg:https://boconnoc.com/wp-content/uploads/2023/08/Christmas-Wreath-Floristry-Workshop-Pic-1.jpg
END:VEVENT
BEGIN:VEVENT
DTSTART;TZID=Europe/London:20231218T180000
DTEND;TZID=Europe/London:20231218T200000
DTSTAMP:20260421T132834
CREATED:20231030T133007Z
LAST-MODIFIED:20231204T140309Z
UID:25597-1702922400-1702929600@boconnoc.com
SUMMARY:A Christmas Carol - performed by the Kernow Chamber Players
DESCRIPTION:Join the Kernow Chamber Players for a performance of the classic ‘A Christmas Carol’ by Charles Dickens in Boconnoc House. This one-person show performed by actor-director Tama Matheson will be accompanied by the Kernow Chamber Players performing music of J.S. Bach\, and others\, to tell the timeless tale of ghosts\, memories\, and second chances and how miserable old Scrooge is reformed by the spirit of Christmas. \nBoconnoc Bar will be open; audience members are invited to join the performers for drinks and mince pies after the performance. \n  \n6 pm – Doors Open / Boconnoc Bar Open \n6.30 pm – Performance begins \n7.40 pm – Performance ends \n  \nAccessible parking will be found at the front of Boconnoc House\, with accessible facilities on site. \n  \nCLICK HERE FOR TICKETS
URL:https://boconnoc.com/event/a-christmas-carol-performed-by-the-kernow-chamber-players/
LOCATION:Boconnoc House
ATTACH;FMTTYPE=image/png:https://boconnoc.com/wp-content/uploads/2023/10/Victorian-image85.png
END:VEVENT
END:VCALENDAR