BEGIN:VCALENDAR
VERSION:2.0
PRODID:-//Boconnoc House &amp; Estate | Wedding Venue and Accommodation Cornwall - ECPv6.15.18//NONSGML v1.0//EN
CALSCALE:GREGORIAN
METHOD:PUBLISH
X-ORIGINAL-URL:https://boconnoc.com
X-WR-CALDESC:Events for Boconnoc House &amp; Estate | Wedding Venue and Accommodation Cornwall
REFRESH-INTERVAL;VALUE=DURATION:PT1H
X-Robots-Tag:noindex
X-PUBLISHED-TTL:PT1H
BEGIN:VTIMEZONE
TZID:Europe/London
BEGIN:DAYLIGHT
TZOFFSETFROM:+0000
TZOFFSETTO:+0100
TZNAME:BST
DTSTART:20220327T010000
END:DAYLIGHT
BEGIN:STANDARD
TZOFFSETFROM:+0100
TZOFFSETTO:+0000
TZNAME:GMT
DTSTART:20221030T010000
END:STANDARD
BEGIN:DAYLIGHT
TZOFFSETFROM:+0000
TZOFFSETTO:+0100
TZNAME:BST
DTSTART:20230326T010000
END:DAYLIGHT
BEGIN:STANDARD
TZOFFSETFROM:+0100
TZOFFSETTO:+0000
TZNAME:GMT
DTSTART:20231029T010000
END:STANDARD
BEGIN:DAYLIGHT
TZOFFSETFROM:+0000
TZOFFSETTO:+0100
TZNAME:BST
DTSTART:20240331T010000
END:DAYLIGHT
BEGIN:STANDARD
TZOFFSETFROM:+0100
TZOFFSETTO:+0000
TZNAME:GMT
DTSTART:20241027T010000
END:STANDARD
END:VTIMEZONE
BEGIN:VEVENT
DTSTART;TZID=Europe/London:20231017T140000
DTEND;TZID=Europe/London:20231017T170000
DTSTAMP:20260421T170633
CREATED:20230711T103601Z
LAST-MODIFIED:20230829T105758Z
UID:24546-1697551200-1697562000@boconnoc.com
SUMMARY:A History Tour of Boconnoc House
DESCRIPTION:Elizabeth Fortescue will lead this fascinating tour of the house and grounds detailing the stories\, history and paintings from the past. \nGuests will also be shown around the 800 year old church and Georgian bath house here at Boconnoc. \nAfter the tour guests will be treated to a delicious Cornish cream tea in the Smoking Room\, with homemade scones lovingly baked by our Housekeeper Kay. \nBoconnoc House\, the winner of the 2012 HHA/Sotheby’s Award for Restoration was bought with the proceeds of the Pitt Diamond in 1717. Three prime ministers\, a history of duels and the architect Sir John Soane play a part in the story of this unique estate. \n  \nBOOK TICKETS \n 
URL:https://boconnoc.com/event/a-history-tour-of-boconnoc-house-with-catherine-lorigan-2/
ATTACH;FMTTYPE=image/jpeg:https://boconnoc.com/wp-content/uploads/2023/01/whats-on-image-.jpg
END:VEVENT
BEGIN:VEVENT
DTSTART;TZID=Europe/London:20231019T180000
DTEND;TZID=Europe/London:20231019T230000
DTSTAMP:20260421T170633
CREATED:20230811T165937Z
LAST-MODIFIED:20230818T091103Z
UID:25004-1697738400-1697756400@boconnoc.com
SUMMARY:Cornwall Climate Care Film Screening and Charity Banquet at Boconnoc House
DESCRIPTION:You are invited to Cornwall Climate Care‘s film screening and charity banquet at Boconnoc House\, Lostwithiel. \nPut on your best Cornish chic and join us for an evening of the following: \n  \nAn Exclusive Film Screening \n\n\n\n\nAfter welcome drinks\, move through to the smoking room for a special screening of Hungry for Change. Presented by St Ives forager Josh Quick\, this is Cornwall Climate Care’s latest film looking at the climate impacts of our broken food system and the inspiring projects working to tackle it. The film will be followed by a Q&A with the filmmakers and guests\, including: \n– Olivia Champion\, microbiologist at Entec Nutrition \n– Matthew Thomson\, director of Sustainable Food Cornwall \n– Ste Davies\, director of Falmouth Food Co-op \nWatch the film trailer here. \n  \nA Low-Carbon Gourmet Banquet \n\n\nNext you will get the chance to experience a meal like no other! Featuring food and delicacies from the film\, you will be treated to a fine three-course banquet using culled venison\, ‘waste’ supermarket food\, foraged wild plants and other surprises. \nMeat and plant-based options are available (please indicate your preference and any dietary requirements when purchasing your ticket. The meat option is venison\, so if this is not to your taste\, please select ‘plant-based’). \n \n  \nAfter Dinner Speaker – Rewilding Specialist Derek Gow \nCan we really afford to give up space for rewilding projects on an overcrowded island that needs to increase its food security? \nDerek Gow\, a farmer turned passionate conservationist\, believes not only that we can\, but that we must. \nPrepare to be challenged\, amused\, enraged and surprised by this talk\, which may overturn many of your assumptions about how we use our land in the UK. \n– \nDerek has played significant roles in the reintroduction of the Eurasian beaver\, the water vole and the white stork to England. He is currently rewildling parts of his 300 acre farm while also working to reintroduce the wildcat. \nHe has published several books and his story has been featured in The Guardian\, The New Yorker\, The Ecologist and more. \n“Gow has a fire in his belly. We need more like him.”—BBC Wildlife magazine \n \n  \nImage Credit: Jonny Weeks \n \nLive Music by Cornish Artist Jenny Bishop \nA songwriter\, performer\, media composer and sound designer based in Cornwall\, Jenny has provided beautiful soundtracks for two of Cornwall Climate Care’s films to date – Food for Thought and Hungry for Change. \n \n  \n\n\nSilent Auction \nThere will be the opportunity for you to win some fantastic prizes in our silent auction – with all proceeds going to Cornwall Climate Care to help fund future films about climate issues and the local businesses and individuals working hard to tackle them. Funds also go towards our new school climate workshop programme. \n\n\n\n\n\n \n\n  \nTickets \nIf you would like to join us for the evening please purchase your tickets here. \nTickets are available at a special price of £75 for a limited time only – book by 17th August 2023. After that the price will increase to the standard £90. \nHowever\, you may select the standard price (£90) even if booking earlier if you would like and are able to provide extra funding to support the work of our charity. Thank you. \nWe look forward to welcoming you at Boconnoc! \n  \nGetting there… by rail or car \nBy rail \nBoconnoc is close to Lostwithiel Station\, which is on the main London-Penzance line. On Oct 19\, the last train from Lostwithiel to Plymouth leaves at 22:11\, while the last train for Penzance is at 23:23. \nLocal taxi firms to ferry you between the station and Boconnoc include Rogers on 01208-873324\, Lostwithiel Town Cars on 07760303515\, or KP Cars on 01726-815415. \nBy car \n  \nPlease do NOT follow your satnav as it will not bring you in to the estate and you are likely to get \nlost. Please make sure you use the directions below. \nIf possible use What3Words to reach the front of the main house: ///waking.trial.balanced \n  \nFROM A30 \n  \nAt Bodmin come off the A30 and follow signs for the A38 to Liskeard. Get on the A38. \n2 miles approx. after Bodmin Parkway Station\, turn right (signposted to East and West Taphouse and Looe/Polperro – B3359). Continue to the “T” junction. \nTurn left onto A390\, go to East Taphouse. Turn RIGHT onto B3359 signed Looe/Polperro & Boconnoc). \nApproximately 1 mile along the B3359 take the 1st right signed Boconnoc (with a tiny sign) \nThen take immediate left signed Boconnoc and 1st right about 1/3 of a mile down the road signed Boconnoc. \nGo to crossroad with lodge by the gate where the sign says Boconnoc\, Private Road. Drive straight through there and follow the signs to Boconnoc which take you along the road round to the left\, down a long straight drive to a tall stone obelisk. Follow the road round to the left\, past another lodge and straight down the hill until you get to the main house. \nStewards will show you where to park. \n  \nFROM A38 from Plymouth direction \nAt EAST Taphouse\, go round a bend and up the hill after garage on the right \nTake next left\, signposted to Looe / Polperro B3359 & Boconnoc. \nApproximately 1 mile along the B3359 take the 1st right signed Boconnoc (with a tiny sign) \nThen take immediate left signed Boconnoc and 1st right about 1/3 of a mile down the road signed Boconnoc. \nGo to crossroad with lodge by the gate where the sign says Boconnoc\, Private Road. Drive straight through there and follow the signs to Boconnoc which take you along the road round to the left\, down a long straight drive to a tall stone obelisk. Follow the road round to the left\, past another lodge and straight down the hill until you get to the main house. \nStewards will show you where to park. \n  \nFrom A390 from St Austell \nGo through Lostwithiel on A390\, towards Liskeard. Go to EAST Taphouse. \n1st turn right (signposted Looe / Polperro B3359 & Boconnoc). \nApproximately 1 mile along the B3359 take the 1st right signed Boconnoc (with a tiny sign) \nThen take immediate left signed Boconnoc and 1st right about 1/3 of a mile down the road signed Boconnoc. \nGo to crossroad with lodge by the gate where the sign says Boconnoc\, Private Road. Drive straight through there and follow the signs to Boconnoc which take you along the road round to the left\, down a long straight drive to a tall stone obelisk. Follow the road round to the left\, past another lodge and straight down the hill until you get to the main house. \nStewards will show you where to park.
URL:https://boconnoc.com/event/cornwall-climate-care-film-screening-and-charity-banquet-at-boconnoc-house/
LOCATION:Boconnoc House
ATTACH;FMTTYPE=image/jpeg:https://boconnoc.com/wp-content/uploads/2023/08/boconnoc-image-scaled.jpeg
END:VEVENT
BEGIN:VEVENT
DTSTART;TZID=Europe/London:20231021T100000
DTEND;TZID=Europe/London:20231029T170000
DTSTAMP:20260421T170633
CREATED:20230724T084009Z
LAST-MODIFIED:20230830T122835Z
UID:20280-1697882400-1698598800@boconnoc.com
SUMMARY:An Enchanted Dragon & Fairy Trail at Boconnoc
DESCRIPTION:Folklore and Fairy Dust… \nBoconnoc offers visitors an experience to truly connect with nature at its most magical. \nJoin us for an enchanting walk through the stunning grounds of Boconnoc as we search for mythical fairy folk and dragons! \nOur trail will lead you through the beautiful gardens where handcrafted willow sculptures of mischievous Cornish Piskeys and legendary dragons will spark wonder and delight.  \nFairy wings\, dragon outfits and magical wands at the ready! \n \n\n  \n \n  \n \n  \nToilets and Refreshments are available on site. \nThe Majority of paths are grass and pushchair friendly but outdoor footwear is recommended after prolonged rain. The fairies\, dragons and forest creatures are all positioned in obvious places but you will need to look up as well as down to see them. \nThere is a trail pack to accompany the experience which includes a map\, colouring book\, pencils and a ribbon to place on the wishing tree. Priced at £2.00. These are sold separately on site. \n  \n  \n\n  \n 
URL:https://boconnoc.com/event/an-enchanting-dragon-fairy-trail-at-boconnoc/
ATTACH;FMTTYPE=image/jpeg:https://boconnoc.com/wp-content/uploads/2022/09/AJP_ENYS_GARDENS_223.jpg
END:VEVENT
END:VCALENDAR