BEGIN:VCALENDAR
VERSION:2.0
PRODID:-//Boconnoc House &amp; Estate | Wedding Venue and Accommodation Cornwall - ECPv6.15.18//NONSGML v1.0//EN
CALSCALE:GREGORIAN
METHOD:PUBLISH
X-WR-CALNAME:Boconnoc House &amp; Estate | Wedding Venue and Accommodation Cornwall
X-ORIGINAL-URL:https://boconnoc.com
X-WR-CALDESC:Events for Boconnoc House &amp; Estate | Wedding Venue and Accommodation Cornwall
REFRESH-INTERVAL;VALUE=DURATION:PT1H
X-Robots-Tag:noindex
X-PUBLISHED-TTL:PT1H
BEGIN:VTIMEZONE
TZID:Europe/London
BEGIN:DAYLIGHT
TZOFFSETFROM:+0000
TZOFFSETTO:+0100
TZNAME:BST
DTSTART:20220327T010000
END:DAYLIGHT
BEGIN:STANDARD
TZOFFSETFROM:+0100
TZOFFSETTO:+0000
TZNAME:GMT
DTSTART:20221030T010000
END:STANDARD
BEGIN:DAYLIGHT
TZOFFSETFROM:+0000
TZOFFSETTO:+0100
TZNAME:BST
DTSTART:20230326T010000
END:DAYLIGHT
BEGIN:STANDARD
TZOFFSETFROM:+0100
TZOFFSETTO:+0000
TZNAME:GMT
DTSTART:20231029T010000
END:STANDARD
BEGIN:DAYLIGHT
TZOFFSETFROM:+0000
TZOFFSETTO:+0100
TZNAME:BST
DTSTART:20240331T010000
END:DAYLIGHT
BEGIN:STANDARD
TZOFFSETFROM:+0100
TZOFFSETTO:+0000
TZNAME:GMT
DTSTART:20241027T010000
END:STANDARD
END:VTIMEZONE
BEGIN:VEVENT
DTSTART;TZID=Europe/London:20230801T100000
DTEND;TZID=Europe/London:20230801T130000
DTSTAMP:20260421T203158
CREATED:20230320T170923Z
LAST-MODIFIED:20230321T112648Z
UID:23047-1690884000-1690894800@boconnoc.com
SUMMARY:Boconnoc’s Ancient Tree Safari
DESCRIPTION:Boconnoc’s Ancient Tree Safari \n  \nJoin Tim Kellett\, from the Cornwall Ancient Tree Forum as he leads an Ancient Tree Safari on the Boconnoc Estate. \n  \nWith an introductory talk in the Soane Room\, guests will learn about ancient trees and their special value to our culture\, landscape and biodiversity before investigating the ancient landscape of Boconnoc. \n  \nExplore the grounds\, deer park\, wood pasture and woodland to gain an insight into the amazing wildlife that lives on the estate\, as well as learning how we age trees and the integral part that trees have played within communities at Boconnoc throughout history. \n  \nGuests will visit some of the oldest trees on the estate where our guide will measure and estimate the age of the trees. We will explore their own habitats and the wildlife they support. \n  \nDuring the experience you will have time to ask questions\, photograph and measure some trees and find out why Oliver Rackham said\, “one 500-year-old oak is more valuable to biodiversity than 10\,000 100-year-old oaks!” \n  \nThis trip will include a tractor & trailer ride and a guided walk back to the house across woodlands and rough ground\, so please wear appropriate\, wet weather clothing and footwear. \n  \nBoconnoc Cafe will be open serving refreshments. \n  \nBOOK TICKETS  \n  \n  \n  \n  \n  \n 
URL:https://boconnoc.com/event/boconnocs-ancient-woodland-a-guided-walk/
ATTACH;FMTTYPE=image/png:https://boconnoc.com/wp-content/uploads/2023/03/boconnoc-050.png
END:VEVENT
BEGIN:VEVENT
DTSTART;TZID=Europe/London:20230801T183000
DTEND;TZID=Europe/London:20230801T213000
DTSTAMP:20260421T203158
CREATED:20230601T114434Z
LAST-MODIFIED:20230717T102514Z
UID:23904-1690914600-1690925400@boconnoc.com
SUMMARY:BOCONNOC MUSIC AWARD CONCERT
DESCRIPTION:This August\, we are delighted to be hosting the award-winning\, Hyde Clarinet Quartet who are an exciting clarinet group formed of current students and alumni from the Royal College of Music. \nEach year\, we give recognition to the best group from the Royal College of Music in celebration of the Boconnoc Music Award. The annual award was established by the late Anthony Fortescue and his wife Elizabeth Fortescue\, owners of Boconnoc in 2012. The prize constitutes a week’s residency on the estate\, providing a valuable opportunity for the musicians to work intensively on repertoire and technique in a private\, inspiring and exclusive environment. \nThis year\, our winners\, The Hyde Clarinet Quartet\, will be joining us from 31 July – 04 August and will be performing a fabulous concert in Boconnoc House on Tuesday 1 August. There will be a second performance in Boconnoc Church on Thursday 3 August. ( more details to be announced soon ) \nThe Hyde Clarinet Quartet are known for their acclaimed performances of classical music. They have also recently commissioned two new works of art\, which they are excited to premier and add to the ever-growing list of clarinet quartet repertoire.  \nJoin us for an enjoyable evening in Boconnoc House as we have the pleasure of hearing the Hyde Clarinet Quartet\, who are dedicated to performing new works\, as well as exploring the diversity of the clarinet. \n  \nBUY TICKETS HERE \nTicket price: £22.50 including drinks upon arrival \nFree entry for anyone in full time education at the Royal College of Music. \nFind out what happened during previous years as we joined forces with the wonderful team at the Royal College of Music\, here.
URL:https://boconnoc.com/event/boconnoc-music-award-concert/
ATTACH;FMTTYPE=image/jpeg:https://boconnoc.com/wp-content/uploads/2023/06/Whats-on-Page-image.jpeg
END:VEVENT
BEGIN:VEVENT
DTSTART;TZID=Europe/London:20230811T100000
DTEND;TZID=Europe/London:20230811T150000
DTSTAMP:20260421T203158
CREATED:20230602T073900Z
LAST-MODIFIED:20230904T122653Z
UID:23915-1691748000-1691766000@boconnoc.com
SUMMARY:Die wise with Stephen Jenkinson - A day-long workshop
DESCRIPTION:We are excited to welcome Stephen Jenkinson to Boconnoc this summer for a one day workshop. \nKnown as a master of storytelling\, over the years\, Stephen has worked extensively with dying people and their families\, is a former programme director in a major Canadian hospital\, and a former assistant professor in a prominent Canadian medical school. \nStephen is also a sculptor and traditional canoe builder whose house won a Governor General’s Award for architecture. \nDuring this talk\, Stephen will be walking you through his award-winning book\, ‘Die Wise: A Manifesto for Sanity & Soul’ which is focused on grief\, dying and the great love of life.  \nDie Wise does not offer seven steps for coping with death. It does not suggest ways to make dying easier. It pours no honey to make the medicine go down. Instead\, with lyrical prose\, deep wisdom\, and stories from his two decades of working with dying people and their families\, Stephen Jenkinson places death at the centre of the page and asks us to behold it in all its painful beauty.  \nWe look forward to seeing you for what will undoubtedly be an inspiring and spiritually stimulating conversation by Stephen.  \nThe talk will take place in the Stable yard at Boconnoc and there will be time between sessions to explore the beautiful grounds of the estate.  \n  \nRead more about Stephen Jenkinson’s work on his website.  \nTo purchase his book Die Wise: A Manifesto for Sanity and Soul \n ahead of the talk\, please see the Amazon link here. \nBUY TICKETS HERE \n  \n \n  \nWe do not have facilities on site for lunch so you will need to bring something with you for the day. We will however be providing a tea and coffee station which will be available throughout the day.  \nTransport Information: \nLostwithiel train station is a 10 minute drive away\, or 45 minute cycle\, with lots of hills \nLiskeard train station is a 20 minute drive away \nWe have parking available on site for guests. \nThere is no accommodation available on the estate on this date unfortunately\, however if you are coming from out of town please find a few recommendations below which are nearby to the estate; \nBrean Park Farm \nChy Bownder Cottage \nUnique rustic hideaway
URL:https://boconnoc.com/event/a-day-long-workshop-with-stephen-jenkinson/
ATTACH;FMTTYPE=image/jpeg:https://boconnoc.com/wp-content/uploads/2023/06/Stephen-Jenkinson.jpg
END:VEVENT
BEGIN:VEVENT
DTSTART;TZID=Europe/London:20230811T193000
DTEND;TZID=Europe/London:20230811T230000
DTSTAMP:20260421T203158
CREATED:20230605T125103Z
LAST-MODIFIED:20230807T172513Z
UID:23979-1691782200-1691794800@boconnoc.com
SUMMARY:EXPLORE THE SOUNDS OF BOCONNOC AT NIGHT
DESCRIPTION:Explore the meadows and woodland valleys of Boconnoc at dusk into the evening\, as we have the pleasure of being treated to a guided walk by ecologist and ornithologist Robbie Phillips. \nDusk is when many of the creatures living on the estate wake up and you can hear the screeches and calls of our nocturnal animals as they head out on their evening hunt. We will hope to hear tawny owls and possibly barn owls as well as listening to bats using a special bat detector. \nWe are delighted to be welcoming Robbie back for a second year\, to host this event. As part of the evening’s agenda\, we will also have a hands-on experience with moths\, setting a moth light ( harmless to moths ) at the start of the evening to see what has come in by dark. This will give everyone the chance to see some of the beautiful species we have at Boconnoc.  \nRead our interview with Robbie here to learn more about him\, his love of nature and his night walks. \nThis is a rare opportunity to explore the private grounds of Boconnoc which are not usually open to the public. Alongside this you will be treated to expert knowledge from ecologist Robbie Phillips. A truly wonderful experience for nature lovers. \n \nA lovely testimonial from last year’s guided tour with Robbie; \n“Just back from their Guided Bird Walk which was absolutely lovely. A small group of us were taken around Boconnoc’s beautiful parkland guided by Robbie\, an expert ornithologist who explained all the bird songs we heard along the way… it was a really interesting evening!” \nAdditional information \nPlease note the walk will be approximately 1.5hours across 2.5km across varying and uneven terrain. We advise sensible footwear and wet weather clothes if raining. Please be advised to bring a torch/headtorch if you have one available. \nThis event is best suited for adults and children over the age of 12 \nYou will need a good level of fitness for this walk and be able to cope with walking on uneven ground. \nPark and meet in the Stable yard at Boconnoc. \nStandard price: £25 \nThere will be a warming mug of hot chocolate during the evening \nBUY TICKETS HERE \n \nAccommodation: \nIf you would like to stay at Boconnoc\, we have availability in our Grooms House which sleeps six people during this period. Guests will receive complimentary tickets to the walk. If you would like to book\, please get in touch by emailing stay@boconnoc.com or calling 01208 872507. Please note this is a minimum three night stay. \n  \n  \n 
URL:https://boconnoc.com/event/explore-the-sounds-of-boconnoc-at-night-2/
ATTACH;FMTTYPE=image/jpeg:https://boconnoc.com/wp-content/uploads/2023/06/Boconnoc-at-dusk-.jpg
END:VEVENT
BEGIN:VEVENT
DTSTART;TZID=Europe/London:20230812T100000
DTEND;TZID=Europe/London:20230812T120000
DTSTAMP:20260421T203158
CREATED:20230419T191818Z
LAST-MODIFIED:20230613T143111Z
UID:23464-1691834400-1691841600@boconnoc.com
SUMMARY:A Deer Ranger for a Day - Morning Session
DESCRIPTION:Join us for a super exciting Deer Safari with our expert ranger Ian Berry and become a Boconnoc Deer Ranger for the day! \nOn Saturday 12th August hop aboard the tractor trailer for a fun ride to the Boconnoc Deer Park where you can learn all about the beautiful deer that live on the estate. \nOur ranger Ian will teach you about the important tasks of a deer ranger\, from poo detecting to protecting the habitat of these magnificent creatures. \nAfterwards families can take part in craft activities in our stable yard\, spend some time together in our games room or indulge in a tasty snack from our on-site cafe! \n  \nThis event is recommended for children aged 12 and under\, but all are welcome. \nChildren under 16 will need to be supervised by an adult at all times. \nWe will meet at the Stable Yard at 10am\, back for around 12pm. \nRefreshments will be available and you are encouraged to bring a your own picnic to enjoy in the Stable Yard after the safari. \n  \nAdult – £15 \nChild- (6-15y) £7.50 \nUnder 5’s – free \nBUY TICKETS HERE
URL:https://boconnoc.com/event/a-deer-ranger-for-a-day-morning-session/
ATTACH;FMTTYPE=image/jpeg:https://boconnoc.com/wp-content/uploads/2023/03/Deer-Safari-1.jpg
END:VEVENT
BEGIN:VEVENT
DTSTART;TZID=Europe/London:20230812T130000
DTEND;TZID=Europe/London:20230812T150000
DTSTAMP:20260421T203158
CREATED:20230419T192044Z
LAST-MODIFIED:20230613T142726Z
UID:23466-1691845200-1691852400@boconnoc.com
SUMMARY:A Deer Ranger for a Day – Afternoon Session
DESCRIPTION:Join us for a super exciting Deer Safari with our expert ranger Ian Berry and become a Boconnoc Deer Ranger for the day! \nOn Saturday 12th August hop aboard the tractor trailer for a fun ride to the Boconnoc Deer Park where you can learn all about the beautiful deer that live on the estate. \nOur ranger Ian will teach you about the important tasks of a deer ranger\, from poo detecting to protecting the habitat of these magnificent creatures. \nAfterwards families can take part in craft activities in our stable yard\, spend some time together in our games room or indulge in a tasty snack from our on-site cafe! \n  \nThis event is recommended for children aged 12 and under\, but all are welcome. \nChildren under 16 will need to be supervised by an adult at all times. \nWe will meet at the Stable Yard at 1pm\, back for around 3pm. \nRefreshments will be available and you are encouraged to bring a your own picnic to enjoy in the Stable Yard after the safari. \n  \nAdult – £15 \nChild- (6-15y) £7.50 \nUnder 5’s – free \nBUY TICKETS HERE
URL:https://boconnoc.com/event/a-deer-ranger-for-a-day-afternoon-session/
ATTACH;FMTTYPE=image/jpeg:https://boconnoc.com/wp-content/uploads/2023/03/Deer-Safari-1.jpg
END:VEVENT
BEGIN:VEVENT
DTSTART;TZID=Europe/London:20230813T140000
DTEND;TZID=Europe/London:20230813T170000
DTSTAMP:20260421T203158
CREATED:20230419T203253Z
LAST-MODIFIED:20230519T121524Z
UID:23483-1691935200-1691946000@boconnoc.com
SUMMARY:Cornwall Hospice Care Open Gardens
DESCRIPTION:This event is organised by the St Austell Soroptimists in support of Cornwall Hospice Care. \n\n\n\n\nTake a trip to one of the most beautiful gardens of Cornwall. From the grazing fallow deer in the Deer Park to the centuries-old trees of the ancient woodland\, exploring the grounds feels like stepping right into a timeless oil painting. \nBegin your tour at the Dorothy Garden\, just a quick stroll from Boconnoc House\, where fountains burble and flowers turn their faces to the sun. Bring along a camera to capture the vibrancy of the shrubbery\, which bursts into blossom\, from 34 different varieties of hydrangeas to beautifully scented roses\, and for a special escape\, explore the palm-fringed paradise of the tropical fountain along the Stewardry Walk around a waterfall\, pool and Lady Hamilton’s marble bath\, the exotic plants create an ambiance that’s akin to a tropical retreat. 
URL:https://boconnoc.com/event/cornwall-hospice-care-open-gardens/
ATTACH;FMTTYPE=image/jpeg:https://boconnoc.com/wp-content/uploads/2023/04/Boconnoc-Gardens-2.jpg
END:VEVENT
BEGIN:VEVENT
DTSTART;TZID=Europe/London:20230816T183000
DTEND;TZID=Europe/London:20230816T210000
DTSTAMP:20260421T203158
CREATED:20230602T075020Z
LAST-MODIFIED:20230808T105547Z
UID:23943-1692210600-1692219600@boconnoc.com
SUMMARY:STRING SEXTETS BY BRAHMS & BOCCHERINI\, PERFORMED BY THE KERNOW CHAMBER PLAYERS
DESCRIPTION:Join us this summer for an inspiring evening of beautiful music by the Kernow Chamber Players in the Boconnoc Stable Yard.  The Kernow Chamber Players consists of leading Cornwall-based musicians\, who have teamed up with some of Cornwall’s most promising young musical students and was originally created in the summer of 2021 to bring live music of many different genres to audiences in Cornwall. They will perform Sextets by Brahms and Boccherini \nIt is our pleasure to have them back again at Boconnoc Estate as we welcome this much-loved group of local talent to our grounds this August. \nThroughout the evening we will be hosting two performances\, accompanied by an interval in-between when the bar will be open.  We look forward to welcoming you for this unmissable musical event. \nPlease note that the event will be taking place outdoors so please wear suitable clothing. You are welcome to bring chairs\, picnics and picnic blankets. In case of wet weather the event will be moved indoors. \nBUY TICKETS HERE \nStandard price: £20 \nEntry with a glass of prosecco: £25 \nParking is available on site.
URL:https://boconnoc.com/event/a-performance-by-the-kernow-chamber-players/
ATTACH;FMTTYPE=image/jpeg:https://boconnoc.com/wp-content/uploads/2021/06/umutcan-gunuc-B4yrCHcde-k-unsplash-scaled.jpg
END:VEVENT
END:VCALENDAR