BEGIN:VCALENDAR
VERSION:2.0
PRODID:-//Boconnoc House &amp; Estate | Wedding Venue and Accommodation Cornwall - ECPv6.15.18//NONSGML v1.0//EN
CALSCALE:GREGORIAN
METHOD:PUBLISH
X-ORIGINAL-URL:https://boconnoc.com
X-WR-CALDESC:Events for Boconnoc House &amp; Estate | Wedding Venue and Accommodation Cornwall
REFRESH-INTERVAL;VALUE=DURATION:PT1H
X-Robots-Tag:noindex
X-PUBLISHED-TTL:PT1H
BEGIN:VTIMEZONE
TZID:Europe/London
BEGIN:DAYLIGHT
TZOFFSETFROM:+0000
TZOFFSETTO:+0100
TZNAME:BST
DTSTART:20210328T010000
END:DAYLIGHT
BEGIN:STANDARD
TZOFFSETFROM:+0100
TZOFFSETTO:+0000
TZNAME:GMT
DTSTART:20211031T010000
END:STANDARD
BEGIN:DAYLIGHT
TZOFFSETFROM:+0000
TZOFFSETTO:+0100
TZNAME:BST
DTSTART:20220327T010000
END:DAYLIGHT
BEGIN:STANDARD
TZOFFSETFROM:+0100
TZOFFSETTO:+0000
TZNAME:GMT
DTSTART:20221030T010000
END:STANDARD
BEGIN:DAYLIGHT
TZOFFSETFROM:+0000
TZOFFSETTO:+0100
TZNAME:BST
DTSTART:20230326T010000
END:DAYLIGHT
BEGIN:STANDARD
TZOFFSETFROM:+0100
TZOFFSETTO:+0000
TZNAME:GMT
DTSTART:20231029T010000
END:STANDARD
END:VTIMEZONE
BEGIN:VEVENT
DTSTART;TZID=Europe/London:20221201T190000
DTEND;TZID=Europe/London:20221201T210000
DTSTAMP:20260422T112002
CREATED:20220919T121749Z
LAST-MODIFIED:20221003T112037Z
UID:20092-1669921200-1669928400@boconnoc.com
SUMMARY:Indian Head Massage Workshop
DESCRIPTION:This candle-lit head massage workshop offers you the chance to receive\, learn and share a simple Indian Head Massage routine in a calm and welcoming space\, and equips you with the skills you need to offer head massage as a zero-waste gift to your loved ones this Christmas. \nYou will be welcomed with a glass of mulled apple juice\, then working with your partner\, you’ll be guided through a simple head massage routine which one person will offer to the other. After a pause for refreshments\, you’ll swap over with your partner so that both have learnt and received the techniques during the session. \nWe ask that people book this workshop in pairs to work with each other – friends\, parents\, siblings\, partners\, and children age 12+ are welcome to attend as the partner of their parent/carer. You will be wrapped in blankets to keep warm\, no oils are used and no prior experience is required. Please note that participants will be fully clothed throughout this workshop. \nAbout Tia: “I trained at the School of Bodywork in Exeter\, gaining a distinction in the Complete Bodyworker Diploma\, followed by a Remedial Massage Diploma. I have carried out additional training in deep tissue and Thai massage\, as well as having qualified as an aromatherapist and in Indian Head Massage.” \n  \nAll resources are provided\, including a set of notes outlining the head massage routine for each of you to take away. \nBOOK TICKETS HERE \n  \nConnect with Tia @ www.tiatamblyn.com \n 
URL:https://boconnoc.com/event/aromatherapy-head-massage-workshop/
LOCATION:Boconnoc House
ATTACH;FMTTYPE=image/png:https://boconnoc.com/wp-content/uploads/2022/09/tia-tamblyn-image-.png
END:VEVENT
BEGIN:VEVENT
DTSTART;TZID=Europe/London:20221202T100000
DTEND;TZID=Europe/London:20221202T120000
DTSTAMP:20260422T112002
CREATED:20220926T143443Z
LAST-MODIFIED:20221003T111303Z
UID:20233-1669975200-1669982400@boconnoc.com
SUMMARY:Seasonal Wreath Making Workshop
DESCRIPTION:Join us for a seasonal wreath making workshop hosted by the super talented Rebecca Stuart from The Garden Gate Flower co. \nForage in the beautiful grounds of Boconnoc for leaves\, ferns and foliage before heading to the candle lit Stable Yard to create your own beautifully festive wreath. \nEverything will be provided for you to make your own door wreath and Rebecca will guide you through the step-by-step process to create something you truly love. \nWe think this workshop would be a lovely activity to do with a friend or family member\, get together\, share a fun morning creating and reconnecting with nature. \nTea\, coffee and delicious homemade mince pies will be provided. \n  \n \n  \nAbout Rebecca  \nThe Garden Gate Flower Company is a sustainable\, environmentally conscious garden and floral design studio based in Cornwall. Rebecca has a passion for design and colour\, she loves to create arrangements that echo the nature in which they have be grown and the environment they will be destined for. \nRebecca started her floral design business in 2010 and wanted to bring her experience of colour theory into her creations.  With a background in textiles\, Rebecca creates arrangements in layers of colour using the best seasonal ingredients from her garden and her network of British growers. The Garden Gate Flower Company has worked on hundreds of weddings and events both here in the UK and in Europe.  \n  \nBOOK TICKETS HERE \n  \nFollow The Garden Gate Flower Company \nInstagram – @thegardengateflowerco \nwww.thegardengateflowercompany.co.uk \n  \n 
URL:https://boconnoc.com/event/seasonal-wreath-making-workshop/
LOCATION:Boconnoc House
ATTACH;FMTTYPE=image/jpeg:https://boconnoc.com/wp-content/uploads/2022/09/IMG_9147-scaled.jpg
END:VEVENT
BEGIN:VEVENT
DTSTART;TZID=Europe/London:20221214T190000
DTEND;TZID=Europe/London:20221214T213000
DTSTAMP:20260422T112002
CREATED:20221121T111057Z
LAST-MODIFIED:20221130T113307Z
UID:21286-1671044400-1671053400@boconnoc.com
SUMMARY:A Ceremony of Carols- by the Kernow Chamber Players
DESCRIPTION:Harriet & Richard Bushman are the founders of Kernow Chamber Players. In addition\, they direct the Ahmadi Music Group and Kuwait Chamber Corale\, two choirs based in Kuwait. This Christmas\, forty-five singers from Kuwait will visit beautiful Boconnoc House. The choirs perform the highest-level classical performances in the Kuwait opera house. \n  \n \n  \nHear Britten’s great ceremony of carols\, plus Christmas favourites both old and new in Boconnoc House in aid of Cornwall Air Ambulance. \nEnjoy a complimentary drink donated by Castang wines and canapés donated by Chef Henk de Villiers Ferreira and his team.  \n  \nThere will be a thirty minute interval for which you can pre-order drinks and enter the charity raffle! \n  \nTickets are £20pp and include a glass of fizz and canapés. \n  \nBOOK HERE \n  \n 
URL:https://boconnoc.com/event/kernow-chamber-players-christmas-choir/
LOCATION:Boconnoc House
ATTACH;FMTTYPE=image/jpeg:https://boconnoc.com/wp-content/uploads/2022/11/Choir-pic-2.jpeg
END:VEVENT
BEGIN:VEVENT
DTSTART;TZID=Europe/London:20221215T190000
DTEND;TZID=Europe/London:20221215T210000
DTSTAMP:20260422T112002
CREATED:20221108T144743Z
LAST-MODIFIED:20221123T092022Z
UID:21014-1671130800-1671138000@boconnoc.com
SUMMARY:CAROLS BY CANDLELIGHT - SOLD OUT
DESCRIPTION:Come and enjoy a beautiful candle-lit evening filled with captivating music from the magnificent Canoryon Lowen choir \nGuests will be seated in the atmospheric Smoking Room at Boconnoc House \nCanoryon Lowen is enjoying its 20th Anniversary Year\, having been formed in the village of St Neot by Nick and Jenny Hart. \nOriginally a choir of 16 members\, Canoryon Lowen has allowed its membership to grow to the mid-thirties\, with evenly balanced numbers in all sections\, with singers drawn from a wide area. Janet Wright has joined the musical team and co-directs with Nick. \nThis much travelled choir has sung in Prague\, Florence\, Venice\, Cortina\, Cork\, Cobh\, Lorient\, as well as Coventry Cathedral and venues all over Devon and Cornwall. It has received commissions for new works by both the Royal Cornwall Museum and the National Maritime Museum\, for which it has received prestigious awards from the Cornish Gorsedh. Nick was made a Bard of the Gorsedh for creativity in music\, for his opera “A Daughter’s Tale”. \nDoors open at 7.00pm with the concert starting at 7.30pm. \nEach half will be approximately 40 minutes with a 20 minute interval where guests can enjoy delicious homemade mince pies and festive treats. \nProceeds from tickets sales for this event will be split evenly between Boconnoc Church and the charity MIND \nMIND campaign to raise awareness and offer support for anyone struggling with their mental health. \n  \nTickets for our event on the 15th December have now sold out! \n 
URL:https://boconnoc.com/event/carols-by-candlelight/
ATTACH;FMTTYPE=image/jpeg:https://boconnoc.com/wp-content/uploads/2022/07/wo-image-scaled.jpg
END:VEVENT
BEGIN:VEVENT
DTSTART;TZID=Europe/London:20221220T190000
DTEND;TZID=Europe/London:20221220T210000
DTSTAMP:20260422T112002
CREATED:20220720T131715Z
LAST-MODIFIED:20221123T091931Z
UID:19403-1671562800-1671570000@boconnoc.com
SUMMARY:CAROLS BY CANDLELIGHT - SOLD OUT
DESCRIPTION:Come and enjoy a beautiful candle-lit evening filled with captivating music from the magnificent Canoryon Lowen choir \nGuests will be seated in the atmospheric Smoking Room at Boconnoc House \nCanoryon Lowen is enjoying its 20th Anniversary Year\, having been formed in the village of St Neot by Nick and Jenny Hart. \nOriginally a choir of 16 members\, Canoryon Lowen has allowed its membership to grow to the mid-thirties\, with evenly balanced numbers in all sections\, with singers drawn from a wide area. Janet Wright has joined the musical team and co-directs with Nick. \nThis much travelled choir has sung in Prague\, Florence\, Venice\, Cortina\, Cork\, Cobh\, Lorient\, as well as Coventry Cathedral and venues all over Devon and Cornwall. It has received commissions for new works by both the Royal Cornwall Museum and the National Maritime Museum\, for which it has received prestigious awards from the Cornish Gorsedh. Nick was made a Bard of the Gorsedh for creativity in music\, for his opera “A Daughter’s Tale”. \nDoors open at 7.00pm with the concert starting at 7.30pm. \nEach half will be approximately 40 minutes with a 20 minute interval where guests can enjoy delicious homemade mince pies and festive treats. \nProceeds from tickets sales for this event will be split evenly between Boconnoc Church and the charity MIND \nMIND campaign to raise awareness and offer support for anyone struggling with their mental health. \n  \nTickets for our event on the 20th December have now sold out!  \n  \n \n  \n 
URL:https://boconnoc.com/event/christmas-carols/
ATTACH;FMTTYPE=image/jpeg:https://boconnoc.com/wp-content/uploads/2022/07/wo-image-scaled.jpg
END:VEVENT
END:VCALENDAR