BEGIN:VCALENDAR
VERSION:2.0
PRODID:-//Boconnoc House &amp; Estate | Wedding Venue and Accommodation Cornwall - ECPv6.15.18//NONSGML v1.0//EN
CALSCALE:GREGORIAN
METHOD:PUBLISH
X-WR-CALNAME:Boconnoc House &amp; Estate | Wedding Venue and Accommodation Cornwall
X-ORIGINAL-URL:https://boconnoc.com
X-WR-CALDESC:Events for Boconnoc House &amp; Estate | Wedding Venue and Accommodation Cornwall
REFRESH-INTERVAL;VALUE=DURATION:PT1H
X-Robots-Tag:noindex
X-PUBLISHED-TTL:PT1H
BEGIN:VTIMEZONE
TZID:Europe/London
BEGIN:DAYLIGHT
TZOFFSETFROM:+0000
TZOFFSETTO:+0100
TZNAME:BST
DTSTART:20250330T010000
END:DAYLIGHT
BEGIN:STANDARD
TZOFFSETFROM:+0100
TZOFFSETTO:+0000
TZNAME:GMT
DTSTART:20251026T010000
END:STANDARD
BEGIN:DAYLIGHT
TZOFFSETFROM:+0000
TZOFFSETTO:+0100
TZNAME:BST
DTSTART:20260329T010000
END:DAYLIGHT
BEGIN:STANDARD
TZOFFSETFROM:+0100
TZOFFSETTO:+0000
TZNAME:GMT
DTSTART:20261025T010000
END:STANDARD
BEGIN:DAYLIGHT
TZOFFSETFROM:+0000
TZOFFSETTO:+0100
TZNAME:BST
DTSTART:20270328T010000
END:DAYLIGHT
BEGIN:STANDARD
TZOFFSETFROM:+0100
TZOFFSETTO:+0000
TZNAME:GMT
DTSTART:20271031T010000
END:STANDARD
END:VTIMEZONE
BEGIN:VEVENT
DTSTART;TZID=Europe/London:20260929T100000
DTEND;TZID=Europe/London:20260929T160000
DTSTAMP:20260417T171958
CREATED:20260224T114504Z
LAST-MODIFIED:20260224T114740Z
UID:29247-1790676000-1790697600@boconnoc.com
SUMMARY:Lilyboo Painting Landscapes in Oils with Andrew Barrowman
DESCRIPTION:Our day will be spent focusing on landscape painting in oils.  We will use the ‘alla prima’ technique\, where the painting is done wet-on-wet in one session – ‘first time’.  We will cover the use of different\nmaterials\, techniques\, composition and some colour mixing. \nBased at Boconnoc’s Stable Yard and taking time to explore the grounds for inspiration\, the day will be hosted by the LilyBoo team and led by talented artist Andrew Barrowman. The day includes refreshments and lunch. \n  \nCourse aims and skills/knowledge to be taught. \n● We will discuss different surfaces to paint onto and their different properties.\n● Simplified composition.\n● How to lay out your oil painting palette.\n● Which oil painting mediums to use – and when to use them (or not!).\n● Different types of oil painting brushes and their uses.\n● Split primary palette – warm and cool versions of the primary colours.\n● Alla prima painting techniques.\n● Cleaning up at the end of a painting session. \nAt the end of the day\, during the mini exhibition\, we will discuss what we have learnt and discovered\, and how we can apply those techniques in our own work. \nWhat’s included? \nRefreshments and lunch are included. \nWhat do you need to bring? \nBlankets will be provided and there will be seats available in the courtyard\, should you wish to explore further into the grounds please bring a camping chair with you. \nPlease bring with you the following items:\n● Apron or old clothing – to protect your clothes and\, importantly\, several large cotton rags for wiping brushes.\n● Low odour turps (Zest It or Gamsol are good) and a painting medium such as linseed oil. A large-sized jam jar with a screw lid for transportation – you will need about half of a jam jar for this workshop.\n● Any oil paint\, palette knives\, brushes etc that you currently use.\n● We will bring some palette knives for you to try if you don’t have your own. Andrew will bring some basic paint colours in case you forget a tube or two\, but please bring any you already have.\n● A palette for mixing your oil paint – Andrew uses glass\, but primed plywood is good\, or disposable tear-off paper is ok.\n● 2 small to medium-sized primed canvases or boards (remember you have to take it home whilst wet\, Andrew has a good method for this which he will show you!). The surface can be white or primed with a ground colour such as burnt sienna or yellow ochre.\n● Don’t forget you will need to transport your wet painting back with you\, so bring something that you can carry it in\, or put it in if travelling by car. Clean pizza delivery boxes are good! A plastic bag is fine for transporting a wet palette home. \nWho is the workshop suitable for? \nYou can be a beginner or a more advanced painter. \nWho runs the workshop? \nThe extremely talented Andrew Barrowman will lead the workshop\, with Hayley from LilyBoo hosting the day. \nAndrew is an award-winning landscape artist based in Cornwall.  He predominantly paints in oils but is always keen to experiment with different media\, including charcoal\, egg tempera\, and casein. He is an enthusiastic plein air sketcher and works outdoors in all weathers. \nHe was elected an associate member of the Royal Birmingham Society of Artists in May 2023 and a full member of the Pastel Society in June 2023. \nTo find out more about Andrew’s work\, please follow: \nThe Artist — Andrew Barrowman ARBSA PS | Cornwall Landscape Artist\nDate: 29 September \nTime: 10am to 4pm \nCost: £115 \nFor more information and booking\, please visit www.lilyBoocornwall.co.uk
URL:https://boconnoc.com/event/lilyboo-painting-landscapes-in-oils-with-andrew-barrowman/
ATTACH;FMTTYPE=image/jpeg:https://boconnoc.com/wp-content/uploads/2026/02/cotswold-landscape.jpg
END:VEVENT
BEGIN:VEVENT
DTSTART;TZID=Europe/London:20261106T160000
DTEND;TZID=Europe/London:20261108T150000
DTSTAMP:20260417T171958
CREATED:20260224T104910Z
LAST-MODIFIED:20260224T113038Z
UID:29236-1793980800-1794150000@boconnoc.com
SUMMARY:LilyBoo Autumn Textile Retreat
DESCRIPTION:Join craft specialists LilyBoo at Boconnoc for a two-night textiles retreat. \nThere will be lots of crafting and social time\, as well as fantastic food from Bellamama’s Deli in Lostwithiel. \nStaying guests will arrive at 4pm on day one\, spend the whole day on day two\, and depart at about 3pm on day three. \nDay guests can join each day from 9.30am to 4.30pm\, enjoying craft workshops and lunch\, as well as plenty of cake and treats. \n\n\n\n\nLilyBoo handles all the planning\, preparation\, and equipment supply so you can arrive and enjoy the whole experience. You will have a great selection of knowledgeable tutors to work with\, and Hayley (the Boo in LilyBoo) will be there throughout to ensure you have everything you need.   \n\n\n\n\n\n\n\nActivities include: experiments with fabric\, textile brooches\, nature printing and more\nInformal evening activities\nIncludes all meals plus a lovely evening meal\nCakes\, fruit and soft drinks available\nLilyBoo gift bag\nDates: 6th November 4:00pm – 8th November 2026 3:00pm\n\nFor more information and booking visit LilyBoocornwall.co.uk
URL:https://boconnoc.com/event/29236/
ATTACH;FMTTYPE=image/jpeg:https://boconnoc.com/wp-content/uploads/2025/06/TaylorPorter_SarahMarkWedding_008_CreditTaylorPorterPhotography-3-2.jpg
END:VEVENT
END:VCALENDAR