BEGIN:VCALENDAR
VERSION:2.0
PRODID:-//Boconnoc House &amp; Estate | Wedding Venue and Accommodation Cornwall - ECPv6.15.18//NONSGML v1.0//EN
CALSCALE:GREGORIAN
METHOD:PUBLISH
X-ORIGINAL-URL:https://boconnoc.com
X-WR-CALDESC:Events for Boconnoc House &amp; Estate | Wedding Venue and Accommodation Cornwall
REFRESH-INTERVAL;VALUE=DURATION:PT1H
X-Robots-Tag:noindex
X-PUBLISHED-TTL:PT1H
BEGIN:VTIMEZONE
TZID:Europe/London
BEGIN:DAYLIGHT
TZOFFSETFROM:+0000
TZOFFSETTO:+0100
TZNAME:BST
DTSTART:20250330T010000
END:DAYLIGHT
BEGIN:STANDARD
TZOFFSETFROM:+0100
TZOFFSETTO:+0000
TZNAME:GMT
DTSTART:20251026T010000
END:STANDARD
BEGIN:DAYLIGHT
TZOFFSETFROM:+0000
TZOFFSETTO:+0100
TZNAME:BST
DTSTART:20260329T010000
END:DAYLIGHT
BEGIN:STANDARD
TZOFFSETFROM:+0100
TZOFFSETTO:+0000
TZNAME:GMT
DTSTART:20261025T010000
END:STANDARD
BEGIN:DAYLIGHT
TZOFFSETFROM:+0000
TZOFFSETTO:+0100
TZNAME:BST
DTSTART:20270328T010000
END:DAYLIGHT
BEGIN:STANDARD
TZOFFSETFROM:+0100
TZOFFSETTO:+0000
TZNAME:GMT
DTSTART:20271031T010000
END:STANDARD
END:VTIMEZONE
BEGIN:VEVENT
DTSTART;TZID=Europe/London:20260714T193000
DTEND;TZID=Europe/London:20260714T220000
DTSTAMP:20260419T163720
CREATED:20260415T124407Z
LAST-MODIFIED:20260415T174534Z
UID:29724-1784057400-1784066400@boconnoc.com
SUMMARY:Miracle Theatre presents Peer Gynt
DESCRIPTION:  \nMiracle Theatre bring their playful twist on the classic tale of Peer Gynt to the Boconnoc grounds this summer. \nYoung Peer is a lazy dreamer who wildly misinterprets William Shakespeare’s advice “To thine own self be true” to mean “look after number one.” Chasing pleasure\, riches and reputation\, Peer blunders his way through life fuelled by bravado\, bad decisions and endless excuses. Surely this can only end badly…? \nLoosely based on Henrik Ibsen’s epic comic poem\, this famous morality tale is perfect material for Miracle Theatre’s highly visual style: physical\, funny\, surreal and deeply human. Expect a riotous journey through a dream-like world of Norse mythology\, peopled with cranky characters\, trolls and other bizarre creatures. A comedy of terrors.\n\n \nDate: Tue 14 Jul 2026  \nTime: Gates open at 6.15pm\, performance starts 7:30 PM  \nTickets: Adults £20.00\, Children £10.00\, Concessions £16.00\, Love Miracle Members £25.00\, Family Ticket £50.00 \nRecommended age: 7+\nApproximate running time: 2 hours\, including an interval. \nBOOK TICKETS \nA quick guide to Miracle Theatre outdoor performances \nGather a Group – Theatre is best shared. Bring friends\, family and neighbours for a proper Miracle night out. \nWhatever the weather\, the show goes on – Check the forecast and dress for the elements. \n\nBegin your evening beautifully – Arrive early to enjoy the grounds\, soak up the atmosphere and secure your favourite spot.  \n\nBring a seat – Please bring a low-backed chair or picnic blanket (and maybe a cushion).  \n\nBring a Picnic – Bring your own feast or check venue details on Miracle Theatre’s website for food and drink options.\nBring a torch – For finding your way home after the show. \n  \nWe recommend arriving at least 30 minutes before the performance begins so you have plenty of time to get settled. \nIf you have any queries\, please contact boxoffice@miracletheatre.co.uk
URL:https://boconnoc.com/event/miracle-theatre-presents-peer-gynt/
ATTACH;FMTTYPE=image/png:https://boconnoc.com/wp-content/uploads/2026/04/Screenshot-2026-04-15-at-14.47.57.png
END:VEVENT
END:VCALENDAR