BEGIN:VCALENDAR
VERSION:2.0
PRODID:-//Boconnoc House &amp; Estate | Wedding Venue and Accommodation Cornwall - ECPv6.15.18//NONSGML v1.0//EN
CALSCALE:GREGORIAN
METHOD:PUBLISH
X-WR-CALNAME:Boconnoc House &amp; Estate | Wedding Venue and Accommodation Cornwall
X-ORIGINAL-URL:https://boconnoc.com
X-WR-CALDESC:Events for Boconnoc House &amp; Estate | Wedding Venue and Accommodation Cornwall
REFRESH-INTERVAL;VALUE=DURATION:PT1H
X-Robots-Tag:noindex
X-PUBLISHED-TTL:PT1H
BEGIN:VTIMEZONE
TZID:Europe/London
BEGIN:DAYLIGHT
TZOFFSETFROM:+0000
TZOFFSETTO:+0100
TZNAME:BST
DTSTART:20250330T010000
END:DAYLIGHT
BEGIN:STANDARD
TZOFFSETFROM:+0100
TZOFFSETTO:+0000
TZNAME:GMT
DTSTART:20251026T010000
END:STANDARD
BEGIN:DAYLIGHT
TZOFFSETFROM:+0000
TZOFFSETTO:+0100
TZNAME:BST
DTSTART:20260329T010000
END:DAYLIGHT
BEGIN:STANDARD
TZOFFSETFROM:+0100
TZOFFSETTO:+0000
TZNAME:GMT
DTSTART:20261025T010000
END:STANDARD
BEGIN:DAYLIGHT
TZOFFSETFROM:+0000
TZOFFSETTO:+0100
TZNAME:BST
DTSTART:20270328T010000
END:DAYLIGHT
BEGIN:STANDARD
TZOFFSETFROM:+0100
TZOFFSETTO:+0000
TZNAME:GMT
DTSTART:20271031T010000
END:STANDARD
END:VTIMEZONE
BEGIN:VEVENT
DTSTART;TZID=Europe/London:20260630T193000
DTEND;TZID=Europe/London:20260630T213000
DTSTAMP:20260419T144840
CREATED:20260204T101408Z
LAST-MODIFIED:20260204T101659Z
UID:28986-1782847800-1782855000@boconnoc.com
SUMMARY:An Evening of Opera at Boconnoc House
DESCRIPTION:Spend an evening in Boconnoc House listening to world-class opera as Wild Arts Opera returns with a brand new programme. \nPerformed by four fabulous singers and a world-class string quintet\, follow our characters as they travel through 75 minutes of spellbinding arias and scenes by Handel\, Mozart\, Rossini\, and Britten\, to the songs of Richard Rodgers and Stephen Sondheim. Semi-staged by director Guido Martin-Brandis and woven into a new narrative full of dramatic intrigue\, jealousy\, comedy\, idealism\, and true love. \nWild Arts is more than just an Opera Company. It’s a charitable organisation that brings world-class opera to beautiful places around the UK. It nurtures young talent and runs music and singing projects in primary schools. By attending our event\, you’re not just enjoying a night of opera; you’re supporting a worthy cause. To learn more\, visit wildarts.org.uk. \n‘An utter delight’ \n★★★★★ \nOpera Now \n‘Spectacular doesn’t even begin to do it justice! Wow’ \n★★★★★ \nAudience member review \n‘Royal Opera House standard\, choices excellent\, the quality terrific and the staging exactly right.’ \nLibby Purvis\, The Times. \nBring your friends\, a picnic\, and refreshments\, and enjoy the beautiful grounds before the performance in Boconnoc House.   \nBOOK TICKETS \nDate: Tuesday\, 30th June 2026. \nPicnics on the lawn and Boconnoc bar open: From 6pm. \nPerformance starts in Boconnoc House: 7.30pm\, approximate running time 1hr 45mins inc interval. \nTickets: Front Row £55\, Standard Seating £45\, Under 25’s £20. \nGroup Tickets: Buy six tickets and a complimentary bottle of Cornish fizz will be waiting for you. \nAccessibility: Please get in touch with us at events@boconnoc.com to let the team know your access requirements for the performance.
URL:https://boconnoc.com/event/an-evening-of-opera-at-boconnoc-house/
ATTACH;FMTTYPE=image/png:https://boconnoc.com/wp-content/uploads/2026/02/Copy-of-Wild-Arts-Opera-Evening-2021-Martha-Jones-e1770200198117.png
END:VEVENT
END:VCALENDAR