BEGIN:VCALENDAR
VERSION:2.0
PRODID:-//Boconnoc House &amp; Estate | Wedding Venue and Accommodation Cornwall - ECPv6.15.18//NONSGML v1.0//EN
CALSCALE:GREGORIAN
METHOD:PUBLISH
X-ORIGINAL-URL:https://boconnoc.com
X-WR-CALDESC:Events for Boconnoc House &amp; Estate | Wedding Venue and Accommodation Cornwall
REFRESH-INTERVAL;VALUE=DURATION:PT1H
X-Robots-Tag:noindex
X-PUBLISHED-TTL:PT1H
BEGIN:VTIMEZONE
TZID:Europe/London
BEGIN:DAYLIGHT
TZOFFSETFROM:+0000
TZOFFSETTO:+0100
TZNAME:BST
DTSTART:20250330T010000
END:DAYLIGHT
BEGIN:STANDARD
TZOFFSETFROM:+0100
TZOFFSETTO:+0000
TZNAME:GMT
DTSTART:20251026T010000
END:STANDARD
BEGIN:DAYLIGHT
TZOFFSETFROM:+0000
TZOFFSETTO:+0100
TZNAME:BST
DTSTART:20260329T010000
END:DAYLIGHT
BEGIN:STANDARD
TZOFFSETFROM:+0100
TZOFFSETTO:+0000
TZNAME:GMT
DTSTART:20261025T010000
END:STANDARD
BEGIN:DAYLIGHT
TZOFFSETFROM:+0000
TZOFFSETTO:+0100
TZNAME:BST
DTSTART:20270328T010000
END:DAYLIGHT
BEGIN:STANDARD
TZOFFSETFROM:+0100
TZOFFSETTO:+0000
TZNAME:GMT
DTSTART:20271031T010000
END:STANDARD
END:VTIMEZONE
BEGIN:VEVENT
DTSTART;TZID=Europe/London:20260611T100000
DTEND;TZID=Europe/London:20260611T160000
DTSTAMP:20260419T145230
CREATED:20260224T115931Z
LAST-MODIFIED:20260224T120525Z
UID:29254-1781172000-1781193600@boconnoc.com
SUMMARY:LilyBoo On Location Watercolour Day with Jennie Boniface
DESCRIPTION:Join us for our one-day ‘On Location Painting’ workshop based in The Stable Yard\, Craft Studio and Courtyard\, with access to several mature gardens\, including a water fountain\, pond\, and extensive views of the House and Estate… picture-perfect scenes waiting to inspire. \n\nThe day will be hosted by one of the LilyBoo team\, with the very talented Jennie Boniface leading the art workshop.  The day includes refreshments and lunch. \nIdeally\, we’ll spend the day outdoors working on location ‘en-plain air’ gathering information from architecture\, trickling fountains\, colourful shrubs and fragrant flowers.   By observing light direction\, colour\, and shape\, we’ll create a series of quick\, fluid watercolour sketches\, embracing mistakes to capture our ‘en plein air’ painting experience. Our finished collection of drawings and paintings represents our visual journey as we capture the landscape’s atmosphere as it changes throughout the day. \nIn the event of adverse weather\, we will use the Craft Studio’s excellent facilities. Creating our sketches and paintings from a selection of photographs and paintings of the venue. \nThere will be practical advice throughout the day\, with both group and personal tuition. \nPainting demonstrations including\, Sketching\, Watercolour techniques\, colour mixing and choosing a composition. \nWho is the workshop suitable for? \nOur On Location Painting Workshop is suitable for anyone who would like to expand their painting experience. If you aspire to paint ‘en plein air’ within an inspiring but private setting\, learning in a small\, friendly group with an experienced and supportive tutor\, come along and join us for our watercolour painting day. \nWhat do you need to bring along? \nSketching pencils \nRubber & pencil sharpener \nSketching with waterproof pens \nSketchbook or paper for sketching \nWatercolour paper (various sizes) \nBulldog clips or masking tape \nA selection of brushes \nPaints – Water-soluble. (preferably a half-pan Winsor & Newton watercolour set) \nPermanent white gouache \nSome additional art equipment you might like to bring\, such as: \nWater-soluble pencils \nWhite oil pastel/candle for resist \nSoft pastels \nCraft knife for the scratching technique \nWe also recommend you bring sun cream\, a hat and probably a waterproof just in case! \nLilyBoo will supply blankets to sit on\, if you would like to sit\, please bring a camping chair.  We will also supply boards to lean on\, water pots and pallets.   Should you wish to bring a portable easel\, please feel free. \nWho is the workshop is led by? \nJennie holds a B.A (Hons) in Fine Art and P.G.C.E. She has worked as a professional artist for many years\, exhibiting in galleries in Cornwall and London. She is an informative and inspiring adult art tutor\, and teaches weekly watercolour classes at LilyBoo\, Lostwithiel. \nShe is most inspired by painting on location\, enjoying the creativity and spontaneity of working ‘en plein air’. She is passionate about capturing light\, colour and time\, and primarily works in watercolour\, acrylic and mixed media painting and is an avid sketchbook user. \nDate: 11th June \nTime: 10am to 4pm \nPrice: £115 \nFor more information and booking\, please visit www.LilyBoocornwall.co.uk
URL:https://boconnoc.com/event/lilyboo-on-location-watercolour-day-with-jennie-boniface/
ATTACH;FMTTYPE=image/jpeg:https://boconnoc.com/wp-content/uploads/2026/02/1000013270.jpg
END:VEVENT
END:VCALENDAR