BEGIN:VCALENDAR
VERSION:2.0
PRODID:-//Boconnoc House &amp; Estate | Wedding Venue and Accommodation Cornwall - ECPv6.15.18//NONSGML v1.0//EN
CALSCALE:GREGORIAN
METHOD:PUBLISH
X-ORIGINAL-URL:https://boconnoc.com
X-WR-CALDESC:Events for Boconnoc House &amp; Estate | Wedding Venue and Accommodation Cornwall
REFRESH-INTERVAL;VALUE=DURATION:PT1H
X-Robots-Tag:noindex
X-PUBLISHED-TTL:PT1H
BEGIN:VTIMEZONE
TZID:Europe/London
BEGIN:DAYLIGHT
TZOFFSETFROM:+0000
TZOFFSETTO:+0100
TZNAME:BST
DTSTART:20250330T010000
END:DAYLIGHT
BEGIN:STANDARD
TZOFFSETFROM:+0100
TZOFFSETTO:+0000
TZNAME:GMT
DTSTART:20251026T010000
END:STANDARD
BEGIN:DAYLIGHT
TZOFFSETFROM:+0000
TZOFFSETTO:+0100
TZNAME:BST
DTSTART:20260329T010000
END:DAYLIGHT
BEGIN:STANDARD
TZOFFSETFROM:+0100
TZOFFSETTO:+0000
TZNAME:GMT
DTSTART:20261025T010000
END:STANDARD
BEGIN:DAYLIGHT
TZOFFSETFROM:+0000
TZOFFSETTO:+0100
TZNAME:BST
DTSTART:20270328T010000
END:DAYLIGHT
BEGIN:STANDARD
TZOFFSETFROM:+0100
TZOFFSETTO:+0000
TZNAME:GMT
DTSTART:20271031T010000
END:STANDARD
END:VTIMEZONE
BEGIN:VEVENT
DTSTART;TZID=Europe/London:20260517T100000
DTEND;TZID=Europe/London:20260517T160000
DTSTAMP:20260419T130257
CREATED:20260318T115257Z
LAST-MODIFIED:20260330T114742Z
UID:29571-1779012000-1779033600@boconnoc.com
SUMMARY:Spring Walks at Boconnoc
DESCRIPTION:Take a late spring walk through Boconnoc’s gardens while they are in full bloom. Bright pinks\, vivid purples\, and deep reds highlight the textural greens of picturesque design that runs throughout Boconnoc’s gardens and grounds. \nSoak in the colour along the Stewardry Walk\,  it will be lined with rhododendrons of all colours and varieties. On your way\, you will pass by the Fernery with a small waterfall and Lady Hamilton’s marble bath. \nWalks will be clearly marked\, and maps will be available; routes range from gentle strolls around the gardens to longer walks through the parkland\, with the longest at 3.8 miles.   \nBoconnoc House will be open and serving light refreshments\, including home-baked sweet and savoury options and Cornish cream teas. \nGardens\, Lakes & Parkland Trails \nEnjoy sweeping views\, explore Boconnoc Lake\, the Pinetum and Shrubbery\, or wander winding paths through gardens planted in the picturesque style. Spring brings a spectacular display of azaleas\, camellias\, magnolias\, and rhododendrons\, as well as many other seasonal blooms.   \nStewardry Walk\nCreated in the Victorian era\, and originally known as the melancholy walk\, this tranquil path is lined with azaleas\, camellias\, magnolias and rhododendrons and links Boconnoc House with the Stewardry. \nThe Fernery\nSpend a moment at the lush green Fernery\, listen to the waterfall\, take in views over the valley\, and admire Lady Hamilton’s marble bath that was  imported from an Italian palazzo. \nMagnolias in the Dorothy Garden \nThe Dorothy Garden is the oldest part of Boconnoc’s gardens and is home to the majority of over 25 varieties of magnolia found across the grounds\, beginning in March many will still be flowering in May. \nAncient Trees \nScattered across the estate are magnificent ancient trees – towering oaks\, gnarled chestnuts\, and veteran beeches that have stood for hundreds of years. Boconnoc’s woodland is a designated Site of Special Scientific Interest (SSSI).   \nAncient Monuments & Hidden History \nThe estate’s monuments and historic features add layers of discovery as you wander the trails. Look for ancient Cornish Crosses and Boconnoc’s Obelisk.   \nFamily-Friendly and Accessible Walks \nWith wide open spaces for children to roam\, secret corners to discover\, and shorter\, easy routes for little legs or buggies\, there is something for everyone. If you have accessibility needs please email office@boconnoc.com so that the team can assist you. \nDog Friendly\nDogs on leads are warmly welcomed and may join their owners for refreshments on the terrace.   \nBoconnoc House Refreshments\nFine homemade savoury and sweet refreshments will be served by our award winning team in the Garden Room and on Terrace of Boconnoc House. \nDate: Sunday 17th May\nTime: 10am to 4pm\, last entry 3pm  \nTickets: Adults: £7.50 Children under 12: Free  \nParking and maps: Complimentary   \nAvailable for pre-order: Cream Tea for two: £15\, Cream Tea for two with a glass of sparkling wine: £28 (use booking link below). If you have dietary requirements\, please email events@boconnoc.com. \nTickets can be bought on entry or in advance HERE
URL:https://boconnoc.com/event/late-spring-bloom-walk-boconnoc/
ATTACH;FMTTYPE=image/png:https://boconnoc.com/wp-content/uploads/2026/03/Autumn-walks-8-e1773834024540.png
END:VEVENT
END:VCALENDAR