BEGIN:VCALENDAR
VERSION:2.0
PRODID:-//Boconnoc House &amp; Estate | Wedding Venue and Accommodation Cornwall - ECPv6.15.18//NONSGML v1.0//EN
CALSCALE:GREGORIAN
METHOD:PUBLISH
X-ORIGINAL-URL:https://boconnoc.com
X-WR-CALDESC:Events for Boconnoc House &amp; Estate | Wedding Venue and Accommodation Cornwall
REFRESH-INTERVAL;VALUE=DURATION:PT1H
X-Robots-Tag:noindex
X-PUBLISHED-TTL:PT1H
BEGIN:VTIMEZONE
TZID:Europe/London
BEGIN:DAYLIGHT
TZOFFSETFROM:+0000
TZOFFSETTO:+0100
TZNAME:BST
DTSTART:20240331T010000
END:DAYLIGHT
BEGIN:STANDARD
TZOFFSETFROM:+0100
TZOFFSETTO:+0000
TZNAME:GMT
DTSTART:20241027T010000
END:STANDARD
BEGIN:DAYLIGHT
TZOFFSETFROM:+0000
TZOFFSETTO:+0100
TZNAME:BST
DTSTART:20250330T010000
END:DAYLIGHT
BEGIN:STANDARD
TZOFFSETFROM:+0100
TZOFFSETTO:+0000
TZNAME:GMT
DTSTART:20251026T010000
END:STANDARD
BEGIN:DAYLIGHT
TZOFFSETFROM:+0000
TZOFFSETTO:+0100
TZNAME:BST
DTSTART:20260329T010000
END:DAYLIGHT
BEGIN:STANDARD
TZOFFSETFROM:+0100
TZOFFSETTO:+0000
TZNAME:GMT
DTSTART:20261025T010000
END:STANDARD
END:VTIMEZONE
BEGIN:VEVENT
DTSTART;TZID=Europe/London:20251217T193000
DTEND;TZID=Europe/London:20251217T213000
DTSTAMP:20260419T183403
CREATED:20241002T083038Z
LAST-MODIFIED:20251024T093933Z
UID:26641-1765999800-1766007000@boconnoc.com
SUMMARY:Candlelit Carols with Canoryon Lowen  
DESCRIPTION:Make a date in your yuletide diary for a magical evening at Boconnoc House this Christmas.   \nOur halls will be decked with ‘boughs of holly’\, glowing with candlelight and warmed by open fires.  \nCome in from the cold\, the bar will be open to purchase drinks in the Drawing Room\, before moving into the Garden Room for a candlelit concert of classic carols performed by the talented Cornish choir Canoryon Lowen.    \nYou will leave full of Christmas spirit and ready for the seasonal celebrations ahead.   \nDate: 17th December 2025  \nTime: Bar open 6.30pm\, concert starts 7.30pm  \nLocation: Boconnoc House  \nPrice: Adults £13.50\, Child (under 12) £8.50  \n  \nParking: You will be directed to free parking on arrival\, you may want to bring a torch.   \nThis is a popular event and often sells out in advance so don’t delay booking if you would like to secure tickets.  \n  \nBook Tickets  \n 
URL:https://boconnoc.com/event/candlelit-carols-with-canoryon-lowen/
ATTACH;FMTTYPE=image/png:https://boconnoc.com/wp-content/uploads/2024/10/Boconnoc-Candelit-Carols-e1727860033239.png
END:VEVENT
END:VCALENDAR