BEGIN:VCALENDAR
VERSION:2.0
PRODID:-//Boconnoc House &amp; Estate | Wedding Venue and Accommodation Cornwall - ECPv6.15.18//NONSGML v1.0//EN
CALSCALE:GREGORIAN
METHOD:PUBLISH
X-ORIGINAL-URL:https://boconnoc.com
X-WR-CALDESC:Events for Boconnoc House &amp; Estate | Wedding Venue and Accommodation Cornwall
REFRESH-INTERVAL;VALUE=DURATION:PT1H
X-Robots-Tag:noindex
X-PUBLISHED-TTL:PT1H
BEGIN:VTIMEZONE
TZID:Europe/London
BEGIN:DAYLIGHT
TZOFFSETFROM:+0000
TZOFFSETTO:+0100
TZNAME:BST
DTSTART:20240331T010000
END:DAYLIGHT
BEGIN:STANDARD
TZOFFSETFROM:+0100
TZOFFSETTO:+0000
TZNAME:GMT
DTSTART:20241027T010000
END:STANDARD
BEGIN:DAYLIGHT
TZOFFSETFROM:+0000
TZOFFSETTO:+0100
TZNAME:BST
DTSTART:20250330T010000
END:DAYLIGHT
BEGIN:STANDARD
TZOFFSETFROM:+0100
TZOFFSETTO:+0000
TZNAME:GMT
DTSTART:20251026T010000
END:STANDARD
BEGIN:DAYLIGHT
TZOFFSETFROM:+0000
TZOFFSETTO:+0100
TZNAME:BST
DTSTART:20260329T010000
END:DAYLIGHT
BEGIN:STANDARD
TZOFFSETFROM:+0100
TZOFFSETTO:+0000
TZNAME:GMT
DTSTART:20261025T010000
END:STANDARD
END:VTIMEZONE
BEGIN:VEVENT
DTSTART;TZID=Europe/London:20251216T190000
DTEND;TZID=Europe/London:20251216T203000
DTSTAMP:20260419T183456
CREATED:20251023T100641Z
LAST-MODIFIED:20251123T153249Z
UID:28850-1765911600-1765917000@boconnoc.com
SUMMARY:A Christmas Carol presented by Kernow Chamber Players
DESCRIPTION:Join us in Boconnoc House for a festive evening when Kernow Chamber Players will present a musical production of Charles Dickens’ timeless classic “A Christmas Carol”. \nThis much-loved classic Christmas tale tells the story of Ebenezer Scrooge\, a miserly man visited by three ghosts on Christmas Eve: the Ghosts of Christmas Past\, Present\, and Yet to Come. They show him the error of his ways\, transforming him into a generous and kind person by Christmas morning.   \nThe performance will be a one-person dramatisation\, written and performed by Tama Matheson\, an award-winning writer\, actor\, director\, and founder of the Brisbane Shakespeare Festival. Matheson plays all  25 characters in the story\,  supported by music from Kernow Chamber Players to enhance and illustrate the story. \nBar open from 6.30pm. Approx running time is 90 minutes\, including the interval. \nDate: 16th December 2025\nTime: 7pm\nTickets: Adults £22.50\, Under 16’s £10.00 \nBook Tickets
URL:https://boconnoc.com/event/a-christmas-carol-presented-by-kernow-chamber-players/
ATTACH;FMTTYPE=image/png:https://boconnoc.com/wp-content/uploads/2025/10/Christmas-Carol-2025-e1761214322851.png
END:VEVENT
END:VCALENDAR