BEGIN:VCALENDAR
VERSION:2.0
PRODID:-//Boconnoc House &amp; Estate | Wedding Venue and Accommodation Cornwall - ECPv6.15.18//NONSGML v1.0//EN
CALSCALE:GREGORIAN
METHOD:PUBLISH
X-ORIGINAL-URL:https://boconnoc.com
X-WR-CALDESC:Events for Boconnoc House &amp; Estate | Wedding Venue and Accommodation Cornwall
REFRESH-INTERVAL;VALUE=DURATION:PT1H
X-Robots-Tag:noindex
X-PUBLISHED-TTL:PT1H
BEGIN:VTIMEZONE
TZID:Europe/London
BEGIN:DAYLIGHT
TZOFFSETFROM:+0000
TZOFFSETTO:+0100
TZNAME:BST
DTSTART:20230326T010000
END:DAYLIGHT
BEGIN:STANDARD
TZOFFSETFROM:+0100
TZOFFSETTO:+0000
TZNAME:GMT
DTSTART:20231029T010000
END:STANDARD
BEGIN:DAYLIGHT
TZOFFSETFROM:+0000
TZOFFSETTO:+0100
TZNAME:BST
DTSTART:20240331T010000
END:DAYLIGHT
BEGIN:STANDARD
TZOFFSETFROM:+0100
TZOFFSETTO:+0000
TZNAME:GMT
DTSTART:20241027T010000
END:STANDARD
BEGIN:DAYLIGHT
TZOFFSETFROM:+0000
TZOFFSETTO:+0100
TZNAME:BST
DTSTART:20250330T010000
END:DAYLIGHT
BEGIN:STANDARD
TZOFFSETFROM:+0100
TZOFFSETTO:+0000
TZNAME:GMT
DTSTART:20251026T010000
END:STANDARD
END:VTIMEZONE
BEGIN:VEVENT
DTSTART;TZID=Europe/London:20240407T140000
DTEND;TZID=Europe/London:20240407T170000
DTSTAMP:20260421T075923
CREATED:20240322T140405Z
LAST-MODIFIED:20240322T140405Z
UID:26142-1712498400-1712509200@boconnoc.com
SUMMARY:Cornwall Heritage Trust Open Gardens
DESCRIPTION:Cornwall Heritage Trust is a charity that works to ensure Cornwall’s unique heritage is protected and shared with everyone\, enjoy Boconnoc’s grounds and gardens and help raise funds so that they can continue their good work. \n\nA free talk by historian and author\, Catherine Lorigan\, will be held at 2.30pm. Catherine is the author of the book Boconnoc – The History of a Cornish Estate.  \n  \nThere’s something for all the family\, including a fun-filled trail to keep the little ones busy during your visit. Well behaved dogs on leads are welcome. \n  \n7th April 2024 \n2pm to 5pm \nTicket prices are £6 if pre-booked online \, £7.50 on the door. \nUnder 12s go free and do not require booking. \nOnline booking will close at 12noon on the Friday before each event. \nDue to poor signal\, Cornwall Heritage Trust will only be able to accept cash for tickets purchased on the day. \nLast entry will be one hour before closing time. \n  \nCornwall Heritage Trust’s Open Gardens 2024 is sponsored by Coodes Solicitors. All proceeds go to Cornwall Heritage Trust. \n  \nAdvance tickets can be booked here https://www.cornwallheritagetrust.org/opengardens/
URL:https://boconnoc.com/event/cornwall-heritage-trust-open-gardens-2/
ATTACH;FMTTYPE=image/jpeg:https://boconnoc.com/wp-content/uploads/2024/03/Boconnoc_Gardens_1037-1.jpg
END:VEVENT
END:VCALENDAR