BEGIN:VCALENDAR
VERSION:2.0
PRODID:-//Boconnoc House &amp; Estate | Wedding Venue and Accommodation Cornwall - ECPv6.15.18//NONSGML v1.0//EN
CALSCALE:GREGORIAN
METHOD:PUBLISH
X-WR-CALNAME:Boconnoc House &amp; Estate | Wedding Venue and Accommodation Cornwall
X-ORIGINAL-URL:https://boconnoc.com
X-WR-CALDESC:Events for Boconnoc House &amp; Estate | Wedding Venue and Accommodation Cornwall
REFRESH-INTERVAL;VALUE=DURATION:PT1H
X-Robots-Tag:noindex
X-PUBLISHED-TTL:PT1H
BEGIN:VTIMEZONE
TZID:Europe/London
BEGIN:DAYLIGHT
TZOFFSETFROM:+0000
TZOFFSETTO:+0100
TZNAME:BST
DTSTART:20220327T010000
END:DAYLIGHT
BEGIN:STANDARD
TZOFFSETFROM:+0100
TZOFFSETTO:+0000
TZNAME:GMT
DTSTART:20221030T010000
END:STANDARD
BEGIN:DAYLIGHT
TZOFFSETFROM:+0000
TZOFFSETTO:+0100
TZNAME:BST
DTSTART:20230326T010000
END:DAYLIGHT
BEGIN:STANDARD
TZOFFSETFROM:+0100
TZOFFSETTO:+0000
TZNAME:GMT
DTSTART:20231029T010000
END:STANDARD
BEGIN:DAYLIGHT
TZOFFSETFROM:+0000
TZOFFSETTO:+0100
TZNAME:BST
DTSTART:20240331T010000
END:DAYLIGHT
BEGIN:STANDARD
TZOFFSETFROM:+0100
TZOFFSETTO:+0000
TZNAME:GMT
DTSTART:20241027T010000
END:STANDARD
END:VTIMEZONE
BEGIN:VEVENT
DTSTART;TZID=Europe/London:20230801T100000
DTEND;TZID=Europe/London:20230801T130000
DTSTAMP:20260421T221536
CREATED:20230320T170923Z
LAST-MODIFIED:20230321T112648Z
UID:23047-1690884000-1690894800@boconnoc.com
SUMMARY:Boconnoc’s Ancient Tree Safari
DESCRIPTION:Boconnoc’s Ancient Tree Safari \n  \nJoin Tim Kellett\, from the Cornwall Ancient Tree Forum as he leads an Ancient Tree Safari on the Boconnoc Estate. \n  \nWith an introductory talk in the Soane Room\, guests will learn about ancient trees and their special value to our culture\, landscape and biodiversity before investigating the ancient landscape of Boconnoc. \n  \nExplore the grounds\, deer park\, wood pasture and woodland to gain an insight into the amazing wildlife that lives on the estate\, as well as learning how we age trees and the integral part that trees have played within communities at Boconnoc throughout history. \n  \nGuests will visit some of the oldest trees on the estate where our guide will measure and estimate the age of the trees. We will explore their own habitats and the wildlife they support. \n  \nDuring the experience you will have time to ask questions\, photograph and measure some trees and find out why Oliver Rackham said\, “one 500-year-old oak is more valuable to biodiversity than 10\,000 100-year-old oaks!” \n  \nThis trip will include a tractor & trailer ride and a guided walk back to the house across woodlands and rough ground\, so please wear appropriate\, wet weather clothing and footwear. \n  \nBoconnoc Cafe will be open serving refreshments. \n  \nBOOK TICKETS  \n  \n  \n  \n  \n  \n 
URL:https://boconnoc.com/event/boconnocs-ancient-woodland-a-guided-walk/
ATTACH;FMTTYPE=image/png:https://boconnoc.com/wp-content/uploads/2023/03/boconnoc-050.png
END:VEVENT
BEGIN:VEVENT
DTSTART;TZID=Europe/London:20230801T183000
DTEND;TZID=Europe/London:20230801T213000
DTSTAMP:20260421T221536
CREATED:20230601T114434Z
LAST-MODIFIED:20230717T102514Z
UID:23904-1690914600-1690925400@boconnoc.com
SUMMARY:BOCONNOC MUSIC AWARD CONCERT
DESCRIPTION:This August\, we are delighted to be hosting the award-winning\, Hyde Clarinet Quartet who are an exciting clarinet group formed of current students and alumni from the Royal College of Music. \nEach year\, we give recognition to the best group from the Royal College of Music in celebration of the Boconnoc Music Award. The annual award was established by the late Anthony Fortescue and his wife Elizabeth Fortescue\, owners of Boconnoc in 2012. The prize constitutes a week’s residency on the estate\, providing a valuable opportunity for the musicians to work intensively on repertoire and technique in a private\, inspiring and exclusive environment. \nThis year\, our winners\, The Hyde Clarinet Quartet\, will be joining us from 31 July – 04 August and will be performing a fabulous concert in Boconnoc House on Tuesday 1 August. There will be a second performance in Boconnoc Church on Thursday 3 August. ( more details to be announced soon ) \nThe Hyde Clarinet Quartet are known for their acclaimed performances of classical music. They have also recently commissioned two new works of art\, which they are excited to premier and add to the ever-growing list of clarinet quartet repertoire.  \nJoin us for an enjoyable evening in Boconnoc House as we have the pleasure of hearing the Hyde Clarinet Quartet\, who are dedicated to performing new works\, as well as exploring the diversity of the clarinet. \n  \nBUY TICKETS HERE \nTicket price: £22.50 including drinks upon arrival \nFree entry for anyone in full time education at the Royal College of Music. \nFind out what happened during previous years as we joined forces with the wonderful team at the Royal College of Music\, here.
URL:https://boconnoc.com/event/boconnoc-music-award-concert/
ATTACH;FMTTYPE=image/jpeg:https://boconnoc.com/wp-content/uploads/2023/06/Whats-on-Page-image.jpeg
END:VEVENT
END:VCALENDAR