BEGIN:VCALENDAR
VERSION:2.0
PRODID:-//Boconnoc House &amp; Estate | Wedding Venue and Accommodation Cornwall - ECPv6.15.18//NONSGML v1.0//EN
CALSCALE:GREGORIAN
METHOD:PUBLISH
X-ORIGINAL-URL:https://boconnoc.com
X-WR-CALDESC:Events for Boconnoc House &amp; Estate | Wedding Venue and Accommodation Cornwall
REFRESH-INTERVAL;VALUE=DURATION:PT1H
X-Robots-Tag:noindex
X-PUBLISHED-TTL:PT1H
BEGIN:VTIMEZONE
TZID:Europe/London
BEGIN:DAYLIGHT
TZOFFSETFROM:+0000
TZOFFSETTO:+0100
TZNAME:BST
DTSTART:20220327T010000
END:DAYLIGHT
BEGIN:STANDARD
TZOFFSETFROM:+0100
TZOFFSETTO:+0000
TZNAME:GMT
DTSTART:20221030T010000
END:STANDARD
BEGIN:DAYLIGHT
TZOFFSETFROM:+0000
TZOFFSETTO:+0100
TZNAME:BST
DTSTART:20230326T010000
END:DAYLIGHT
BEGIN:STANDARD
TZOFFSETFROM:+0100
TZOFFSETTO:+0000
TZNAME:GMT
DTSTART:20231029T010000
END:STANDARD
BEGIN:DAYLIGHT
TZOFFSETFROM:+0000
TZOFFSETTO:+0100
TZNAME:BST
DTSTART:20240331T010000
END:DAYLIGHT
BEGIN:STANDARD
TZOFFSETFROM:+0100
TZOFFSETTO:+0000
TZNAME:GMT
DTSTART:20241027T010000
END:STANDARD
END:VTIMEZONE
BEGIN:VEVENT
DTSTART;TZID=Europe/London:20230727T100000
DTEND;TZID=Europe/London:20230727T120000
DTSTAMP:20260422T001128
CREATED:20230303T102851Z
LAST-MODIFIED:20230608T163951Z
UID:22804-1690452000-1690459200@boconnoc.com
SUMMARY:A Deer Ranger for a Day - Morning Session
DESCRIPTION:Join us for a super exciting Deer Safari with our expert ranger Ian Berry and become a Boconnoc Deer Ranger for the day! \nOn Thursday 27th July hop aboard the tractor trailer for a fun ride to the Boconnoc Deer Park where you can learn all about the beautiful deer that live on the estate. \nOur ranger Ian will teach you about the important tasks of a deer ranger\, from poo detecting to protecting the habitat of these magnificent creatures. \nAfterwards children can take part in craft activities in our stable yard. \n  \nThis event is recommended for children aged 12 and under\, but all are welcome. \nChildren under 16 will need to be supervised by an adult at all times. \nWe will meet at the Stable Yard at 10am\, back for around 12pm. \nRefreshments will be available and you are encouraged to bring a your own picnic to enjoy in the Stable Yard after the safari. \n  \nAdult – £15 \nChild- (6-15y) £7.50 \nUnder 5’s – free \nBUY TICKETS HERE
URL:https://boconnoc.com/event/a-deer-ranger-for-the-day-morning-session/
ATTACH;FMTTYPE=image/jpeg:https://boconnoc.com/wp-content/uploads/2023/04/EB-IMAGE-.jpg
END:VEVENT
BEGIN:VEVENT
DTSTART;TZID=Europe/London:20230727T130000
DTEND;TZID=Europe/London:20230727T150000
DTSTAMP:20260422T001128
CREATED:20230303T162328Z
LAST-MODIFIED:20230613T142406Z
UID:22809-1690462800-1690470000@boconnoc.com
SUMMARY:A Deer Ranger for a Day - Afternoon Session
DESCRIPTION:Join us for a super exciting Deer Safari with our expert ranger Ian Berry and become a Boconnoc Deer Ranger for the day! \nOn Thursday 27th July hop aboard the tractor trailer for a fun ride to the Boconnoc Deer Park where you can learn all about the beautiful deer that live on the estate. \nOur ranger Ian will teach you about the important tasks of a deer ranger\, from poo detecting to protecting the habitat of these magnificent creatures. \nAfterwards children can take part in craft activities in our stable yard. \n  \nThis event is recommended for children aged 12 and under\, but all are welcome. \nChildren under 16 will need to be supervised by an adult at all times. \nWe will meet at the Stable Yard at 1pm\, back for around 3pm. \nRefreshments will be available to purchase on site. \n  \nFamily Ticket (2 adults 2 children) – £45 \nAdult – £15 \nChild- (6-15y) £7.50 \nUnder 5’s – free \nBUY TICKETS HERE
URL:https://boconnoc.com/event/a-deer-ranger-for-the-day-afternoon-session-2/
ATTACH;FMTTYPE=image/jpeg:https://boconnoc.com/wp-content/uploads/2023/03/Deer-Safari-1.jpg
END:VEVENT
END:VCALENDAR