BEGIN:VCALENDAR
VERSION:2.0
PRODID:-//Boconnoc House &amp; Estate | Wedding Venue and Accommodation Cornwall - ECPv6.15.18//NONSGML v1.0//EN
CALSCALE:GREGORIAN
METHOD:PUBLISH
X-ORIGINAL-URL:https://boconnoc.com
X-WR-CALDESC:Events for Boconnoc House &amp; Estate | Wedding Venue and Accommodation Cornwall
REFRESH-INTERVAL;VALUE=DURATION:PT1H
X-Robots-Tag:noindex
X-PUBLISHED-TTL:PT1H
BEGIN:VTIMEZONE
TZID:Europe/London
BEGIN:DAYLIGHT
TZOFFSETFROM:+0000
TZOFFSETTO:+0100
TZNAME:BST
DTSTART:20220327T010000
END:DAYLIGHT
BEGIN:STANDARD
TZOFFSETFROM:+0100
TZOFFSETTO:+0000
TZNAME:GMT
DTSTART:20221030T010000
END:STANDARD
BEGIN:DAYLIGHT
TZOFFSETFROM:+0000
TZOFFSETTO:+0100
TZNAME:BST
DTSTART:20230326T010000
END:DAYLIGHT
BEGIN:STANDARD
TZOFFSETFROM:+0100
TZOFFSETTO:+0000
TZNAME:GMT
DTSTART:20231029T010000
END:STANDARD
BEGIN:DAYLIGHT
TZOFFSETFROM:+0000
TZOFFSETTO:+0100
TZNAME:BST
DTSTART:20240331T010000
END:DAYLIGHT
BEGIN:STANDARD
TZOFFSETFROM:+0100
TZOFFSETTO:+0000
TZNAME:GMT
DTSTART:20241027T010000
END:STANDARD
END:VTIMEZONE
BEGIN:VEVENT
DTSTART;TZID=Europe/London:20230726T170000
DTEND;TZID=Europe/London:20230726T200000
DTSTAMP:20260422T001220
CREATED:20230208T111049Z
LAST-MODIFIED:20230523T085618Z
UID:22422-1690390800-1690401600@boconnoc.com
SUMMARY:A Summer Evening of Opera in the Garden
DESCRIPTION:Wild Arts presents an evening of opera highlights in the gardens at Boconnoc. \n  \nA love story built around your favourite opera classics\, arranged into 75 minutes of musical heaven. All sung by the stars of tomorrow and played by a stunning string quintet.  \nYou are welcome to arrive from 5pm to enjoy the amazing views and set up your picnic. Please note\, we do not permit alcohol being brought to site\, however\, Boconnoc Bar will be offering non-alcoholic and alcoholic refreshments. \nThe performance will start around 6pm and you’ll be able to continue your picnic afterwards\, in the last rays of the setting sun. \nIn the event of wet weather\, this event will be moved indoors.  \nProgramme: \nNicolai Overture from The Merry Wives of Windsor \nHandel  Lo\, here my love from Acis & Galatea \nKurt Weill One life to live from Lady in the Dark\nMozart Porgi Amor from Figaro \nTchaikovsky  Lensky’s declaration of love from Engene Onegin \nRossini All’Idea di quel Metallo from The Barber of Seville \nBellini  Se Romeo t’uccise from I Capuleti e Montecchi \nRossini  Finale Act I stretto Zitto Zitto from Cenerentola \nINTERVAL \nRodgers & Hammerstein The Surrey with the Fringe on Top from Oklahoma \nMonteverdi  Pur ti miro from l’Incoronatione di Poppea\nMozart Trio Susanna or via sortite from Figaro \nPuccini  O mio babbino caro from Gianni Schicchi \nVerdi Quartet Sire! from Con Carlo \nTchaikovsky  Final scene from Eugene Onegin \nBernstein Somewhere from West Side Story \n  \nSondheim The Little Things from Company \n  \nABOUT \nWild Arts is a new company founded by Orlando Jopling which takes world-class opera to beautiful venues across the UK. More information on wildarts.org.uk \nWild Arts makes great music fresh and enjoyable\, performed in intimate venues\, for everyone. In 2022 we performed in over 30 venues. \nEnvironmentally sustainable performing and touring\, and top quality\, lie at the heart of Wild Arts. \nWe take risks\, playing opera and symphonic repertoire as chamber music\, collaboratively\, and in unusual locations. We mix incredibly talented young musicians with the expertise of musicians who have performed on the great world stages. \nThe long term dream of Wild Arts is a truly sustainable opera house and performance space\, set in a re-wilded and bio-diverse environment\, built from sustainable materials\, with regenerative\, carbon positive operation. \n  \nLet me tell you that Wild Arts’ opera evenings are of a breathtakingly high\, ROH-level musical standard – a gorgeous quintet of musicians and a most cunning choice of excerpts\, mischievously well acted. I’d follow them anywhere. Libby Purves \n  \nA fine young cast excel\, with engaging energy and superb singing … a knowing\, cheeky sense of humour\, while never detracting from Mozart’s delectable score. An affordable and accessible production\, attracting those who might be new to opera. – The Guardian on our 2022 production of Così fan tutte. \n  \nBOOK HERE
URL:https://boconnoc.com/event/a-summer-evening-of-opera-in-the-garden/
LOCATION:Boconnoc House
ATTACH;FMTTYPE=image/jpeg:https://boconnoc.com/wp-content/uploads/2023/02/WO-IMAGE-Joanna-Songi-best-Opera-Evenings-2022-by-Christopher-Roche.jpg
END:VEVENT
END:VCALENDAR