BEGIN:VCALENDAR
VERSION:2.0
PRODID:-//Boconnoc House &amp; Estate | Wedding Venue and Accommodation Cornwall - ECPv6.15.18//NONSGML v1.0//EN
CALSCALE:GREGORIAN
METHOD:PUBLISH
X-WR-CALNAME:Boconnoc House &amp; Estate | Wedding Venue and Accommodation Cornwall
X-ORIGINAL-URL:https://boconnoc.com
X-WR-CALDESC:Events for Boconnoc House &amp; Estate | Wedding Venue and Accommodation Cornwall
REFRESH-INTERVAL;VALUE=DURATION:PT1H
X-Robots-Tag:noindex
X-PUBLISHED-TTL:PT1H
BEGIN:VTIMEZONE
TZID:Europe/London
BEGIN:DAYLIGHT
TZOFFSETFROM:+0000
TZOFFSETTO:+0100
TZNAME:BST
DTSTART:20220327T010000
END:DAYLIGHT
BEGIN:STANDARD
TZOFFSETFROM:+0100
TZOFFSETTO:+0000
TZNAME:GMT
DTSTART:20221030T010000
END:STANDARD
BEGIN:DAYLIGHT
TZOFFSETFROM:+0000
TZOFFSETTO:+0100
TZNAME:BST
DTSTART:20230326T010000
END:DAYLIGHT
BEGIN:STANDARD
TZOFFSETFROM:+0100
TZOFFSETTO:+0000
TZNAME:GMT
DTSTART:20231029T010000
END:STANDARD
BEGIN:DAYLIGHT
TZOFFSETFROM:+0000
TZOFFSETTO:+0100
TZNAME:BST
DTSTART:20240331T010000
END:DAYLIGHT
BEGIN:STANDARD
TZOFFSETFROM:+0100
TZOFFSETTO:+0000
TZNAME:GMT
DTSTART:20241027T010000
END:STANDARD
END:VTIMEZONE
BEGIN:VEVENT
DTSTART;TZID=Europe/London:20230422T183000
DTEND;TZID=Europe/London:20230422T213000
DTSTAMP:20260422T055012
CREATED:20220105T111907Z
LAST-MODIFIED:20230220T145410Z
UID:20107-1682188200-1682199000@boconnoc.com
SUMMARY:Stable Yard Sessions - ISYLA
DESCRIPTION:  \nThis Earth Day (22nd April 2023) we are excited to welcome ISYLA back to Boconnoc for another intimate performance.  \nThe climate conscious songwriters will unite listeners with their ethereal harmonies whilst highlighting the importance of protecting our planet. \n  \nAbout the band: \n  \nUK singer-songwriters Lizzie Freeborn and Amy Woodburn formed ISYLA in 2020 to offer a musical response to raising the profile of the climate crisis. \nThey combine their love for cinematic arrangements\, dynamic harmonies and sultry grooves. Since their debut ISYLA’s have featured on BBC Introducing\, Absolute Radio (Frank Skinner) and performed a live session on Radio X (John Kennedy). \nAfter a year of live performances that included Cornwall Folk Festival and The Eden Project\, ISYLA began 2023 with their enchanting new release and folk-pop epic “Snow is a Colour”. \nLizzie and Amy have childhoods rich in sixties folk and rock\, as well as classical music. For fans of Aurora\, Florence and the Machine\, Aurora and London Grammar\, ISYLA’s sound transcends decades of influences\, with captivating vocals and dynamic song writing. \n  \nListen here! \n  \nYou can hear more about Isyla’s story on Tia Tamblyn’s podcast- Breakfast & Beyond \n  \nBOOK TICKETS  \n  \n \n  \n 
URL:https://boconnoc.com/event/live-music-at-boconnoc-isyla/
LOCATION:Boconnoc House
ATTACH;FMTTYPE=image/jpeg:https://boconnoc.com/wp-content/uploads/2022/01/BANNER.jpg
END:VEVENT
END:VCALENDAR