BEGIN:VCALENDAR
VERSION:2.0
PRODID:-//Boconnoc House &amp; Estate | Wedding Venue and Accommodation Cornwall - ECPv6.15.18//NONSGML v1.0//EN
CALSCALE:GREGORIAN
METHOD:PUBLISH
X-ORIGINAL-URL:https://boconnoc.com
X-WR-CALDESC:Events for Boconnoc House &amp; Estate | Wedding Venue and Accommodation Cornwall
REFRESH-INTERVAL;VALUE=DURATION:PT1H
X-Robots-Tag:noindex
X-PUBLISHED-TTL:PT1H
BEGIN:VTIMEZONE
TZID:Europe/London
BEGIN:DAYLIGHT
TZOFFSETFROM:+0000
TZOFFSETTO:+0100
TZNAME:BST
DTSTART:20220327T010000
END:DAYLIGHT
BEGIN:STANDARD
TZOFFSETFROM:+0100
TZOFFSETTO:+0000
TZNAME:GMT
DTSTART:20221030T010000
END:STANDARD
BEGIN:DAYLIGHT
TZOFFSETFROM:+0000
TZOFFSETTO:+0100
TZNAME:BST
DTSTART:20230326T010000
END:DAYLIGHT
BEGIN:STANDARD
TZOFFSETFROM:+0100
TZOFFSETTO:+0000
TZNAME:GMT
DTSTART:20231029T010000
END:STANDARD
BEGIN:DAYLIGHT
TZOFFSETFROM:+0000
TZOFFSETTO:+0100
TZNAME:BST
DTSTART:20240331T010000
END:DAYLIGHT
BEGIN:STANDARD
TZOFFSETFROM:+0100
TZOFFSETTO:+0000
TZNAME:GMT
DTSTART:20241027T010000
END:STANDARD
END:VTIMEZONE
BEGIN:VEVENT
DTSTART;TZID=Europe/London:20230421T100000
DTEND;TZID=Europe/London:20230421T120000
DTSTAMP:20260422T055409
CREATED:20230202T141648Z
LAST-MODIFIED:20230224T123832Z
UID:21915-1682071200-1682078400@boconnoc.com
SUMMARY:Celebrating spring at Boconnoc
DESCRIPTION:  \nJoin Becca from The Garden gate Flower Company in the beautiful grounds of Boconnoc\, where she will demonstrate how to create a stunning vase arrangement for your home. \nUsing locally grown flowers in spring colours this will form the main ingredients for your floral creation. \nGuests will then wander through the stunning gardens of Boconnoc and forage for elements to compliment your design. \nBecca will guide you on how to cut and condition your flowers to keep your arrangements \nlooking good for longer. \nFinally\, should you wish to gift your arrangement she will teach you how to wrap your bouquet\, giving you the knowledge of future homegrown gifting. \n  \n  \nCourse includes: \nSpring talk \nDemonstration \nFlorals and use of snips to create your own arrangement \nGift wrapping vessel to take your flowers home in \nRefreshments include tea and coffee and homemade biscuits \n  \nTickets £95pp \n  \nBOOK TICKETS \n  \n \n 
URL:https://boconnoc.com/event/spring-flowers-with-the-garden-gate-flower-company/
ATTACH;FMTTYPE=image/jpeg:https://boconnoc.com/wp-content/uploads/2023/02/Spring-Flat-Lay.jpg
END:VEVENT
END:VCALENDAR