BEGIN:VCALENDAR
VERSION:2.0
PRODID:-//Boconnoc House &amp; Estate | Wedding Venue and Accommodation Cornwall - ECPv6.15.18//NONSGML v1.0//EN
CALSCALE:GREGORIAN
METHOD:PUBLISH
X-ORIGINAL-URL:https://boconnoc.com
X-WR-CALDESC:Events for Boconnoc House &amp; Estate | Wedding Venue and Accommodation Cornwall
REFRESH-INTERVAL;VALUE=DURATION:PT1H
X-Robots-Tag:noindex
X-PUBLISHED-TTL:PT1H
BEGIN:VTIMEZONE
TZID:Europe/London
BEGIN:DAYLIGHT
TZOFFSETFROM:+0000
TZOFFSETTO:+0100
TZNAME:BST
DTSTART:20220327T010000
END:DAYLIGHT
BEGIN:STANDARD
TZOFFSETFROM:+0100
TZOFFSETTO:+0000
TZNAME:GMT
DTSTART:20221030T010000
END:STANDARD
BEGIN:DAYLIGHT
TZOFFSETFROM:+0000
TZOFFSETTO:+0100
TZNAME:BST
DTSTART:20230326T010000
END:DAYLIGHT
BEGIN:STANDARD
TZOFFSETFROM:+0100
TZOFFSETTO:+0000
TZNAME:GMT
DTSTART:20231029T010000
END:STANDARD
BEGIN:DAYLIGHT
TZOFFSETFROM:+0000
TZOFFSETTO:+0100
TZNAME:BST
DTSTART:20240331T010000
END:DAYLIGHT
BEGIN:STANDARD
TZOFFSETFROM:+0100
TZOFFSETTO:+0000
TZNAME:GMT
DTSTART:20241027T010000
END:STANDARD
END:VTIMEZONE
BEGIN:VEVENT
DTSTART;TZID=Europe/London:20230419T140000
DTEND;TZID=Europe/London:20230419T170000
DTSTAMP:20260422T055310
CREATED:20230207T125739Z
LAST-MODIFIED:20230210T162041Z
UID:22397-1681912800-1681923600@boconnoc.com
SUMMARY:A History Tour of Boconnoc House with Catherine Lorigan
DESCRIPTION:Join Historian and Author Catherine Lorigan for a tour of Boconnoc House. \nCatherine will lead this fascinating tour of the house and grounds detailing the stories\, history and paintings from the past. \nGuests will also be shown around the 800 year old church and Georgian bath house here at Boconnoc. \nAfter the tour guests will be treated to a delicious Cornish cream tea in the Smoking Room\, with homemade scones lovingly baked by our Housekeeper Kay \nBoconnoc House\, the winner of the 2012 HHA/Sotheby’s Award for Restoration was bought with the proceeds of the Pitt Diamond in 1717. Three prime ministers\, a history of duels and the architect Sir John Soane play a part in the story of this unique estate. \n  \nBOOK TICKETS \n  \nMeet your guide… \nCatherine Lorigan was born in London. During many visits to Cornwall to visit relatives\, her interest in the history of the county was awakened and her research now concentrates on many things Cornish. She has degrees from the universities of Birmingham\, Oxford and Exeter. \nCatherine is the author of the book Boconnoc- The History of a Cornish Estate \n 
URL:https://boconnoc.com/event/a-history-tour-of-boconnoc-house-with-catherine-lorigan-3/
ATTACH;FMTTYPE=image/jpeg:https://boconnoc.com/wp-content/uploads/2023/01/whats-on-image-.jpg
END:VEVENT
END:VCALENDAR