BEGIN:VCALENDAR
VERSION:2.0
PRODID:-//Boconnoc House &amp; Estate | Wedding Venue and Accommodation Cornwall - ECPv6.15.18//NONSGML v1.0//EN
CALSCALE:GREGORIAN
METHOD:PUBLISH
X-ORIGINAL-URL:https://boconnoc.com
X-WR-CALDESC:Events for Boconnoc House &amp; Estate | Wedding Venue and Accommodation Cornwall
REFRESH-INTERVAL;VALUE=DURATION:PT1H
X-Robots-Tag:noindex
X-PUBLISHED-TTL:PT1H
BEGIN:VTIMEZONE
TZID:Europe/London
BEGIN:DAYLIGHT
TZOFFSETFROM:+0000
TZOFFSETTO:+0100
TZNAME:BST
DTSTART:20220327T010000
END:DAYLIGHT
BEGIN:STANDARD
TZOFFSETFROM:+0100
TZOFFSETTO:+0000
TZNAME:GMT
DTSTART:20221030T010000
END:STANDARD
BEGIN:DAYLIGHT
TZOFFSETFROM:+0000
TZOFFSETTO:+0100
TZNAME:BST
DTSTART:20230326T010000
END:DAYLIGHT
BEGIN:STANDARD
TZOFFSETFROM:+0100
TZOFFSETTO:+0000
TZNAME:GMT
DTSTART:20231029T010000
END:STANDARD
BEGIN:DAYLIGHT
TZOFFSETFROM:+0000
TZOFFSETTO:+0100
TZNAME:BST
DTSTART:20240331T010000
END:DAYLIGHT
BEGIN:STANDARD
TZOFFSETFROM:+0100
TZOFFSETTO:+0000
TZNAME:GMT
DTSTART:20241027T010000
END:STANDARD
END:VTIMEZONE
BEGIN:VEVENT
DTSTART;TZID=Europe/London:20230416T090000
DTEND;TZID=Europe/London:20230416T140000
DTSTAMP:20260422T055311
CREATED:20230301T202819Z
LAST-MODIFIED:20230302T161049Z
UID:22759-1681635600-1681653600@boconnoc.com
SUMMARY:Vintage Tractor Rally
DESCRIPTION:  \nTRACTOR RALLY AT BOCONNOC \nMeet at Boconnoc for 9am \nLeave Boconnoc for rally at 10am \nExpected back at Boconnoc for 1pm \nPasty lunch in the Stable Yard \nDepart at 2pm \n  \nPlease note that this event is for vintage tractors and vintage Land Rovers only\, no modern vehicles. \n  \nTo book your place & pre-order your pasty lunch\, please call Marcus Vincent on 07866171753.
URL:https://boconnoc.com/event/tractor-rally-2/
ATTACH;FMTTYPE=image/jpeg:https://boconnoc.com/wp-content/uploads/2023/03/Boconnoc-Steam-Fair-0050.jpg
END:VEVENT
END:VCALENDAR