BEGIN:VCALENDAR
VERSION:2.0
PRODID:-//Boconnoc House &amp; Estate | Wedding Venue and Accommodation Cornwall - ECPv6.15.18//NONSGML v1.0//EN
CALSCALE:GREGORIAN
METHOD:PUBLISH
X-WR-CALNAME:Boconnoc House &amp; Estate | Wedding Venue and Accommodation Cornwall
X-ORIGINAL-URL:https://boconnoc.com
X-WR-CALDESC:Events for Boconnoc House &amp; Estate | Wedding Venue and Accommodation Cornwall
REFRESH-INTERVAL;VALUE=DURATION:PT1H
X-Robots-Tag:noindex
X-PUBLISHED-TTL:PT1H
BEGIN:VTIMEZONE
TZID:Europe/London
BEGIN:DAYLIGHT
TZOFFSETFROM:+0000
TZOFFSETTO:+0100
TZNAME:BST
DTSTART:20220327T010000
END:DAYLIGHT
BEGIN:STANDARD
TZOFFSETFROM:+0100
TZOFFSETTO:+0000
TZNAME:GMT
DTSTART:20221030T010000
END:STANDARD
BEGIN:DAYLIGHT
TZOFFSETFROM:+0000
TZOFFSETTO:+0100
TZNAME:BST
DTSTART:20230326T010000
END:DAYLIGHT
BEGIN:STANDARD
TZOFFSETFROM:+0100
TZOFFSETTO:+0000
TZNAME:GMT
DTSTART:20231029T010000
END:STANDARD
BEGIN:DAYLIGHT
TZOFFSETFROM:+0000
TZOFFSETTO:+0100
TZNAME:BST
DTSTART:20240331T010000
END:DAYLIGHT
BEGIN:STANDARD
TZOFFSETFROM:+0100
TZOFFSETTO:+0000
TZNAME:GMT
DTSTART:20241027T010000
END:STANDARD
END:VTIMEZONE
BEGIN:VEVENT
DTSTART;TZID=Europe/London:20230316T180000
DTEND;TZID=Europe/London:20230316T233000
DTSTAMP:20260422T074411
CREATED:20230207T181646Z
LAST-MODIFIED:20230208T110134Z
UID:22406-1678989600-1679009400@boconnoc.com
SUMMARY:Charity Gala Dinner & Auction  - Supporting Dive Project Cornwall
DESCRIPTION:  \nHELPING 400 LUCKY TEENAGERS EXPERIENCE THE OCEAN \nJOIN US FOR A CHARITY GALA DINNER AND AUCTION AT BOCONNOC HOUSE  ON 16th MARCH \nThe Ocean Agency Ltd is supporting \nDIVE PROJECT CORNWALL by hosting a fantastic evening of food\, drink and fun. \nSupported by Helping Hands & Pans\, a collective of hospitality professionals and enthusiastic ‘amateurs’ volunteering their time to deliver a splendid 4 course menu \nFind out more  \nReserve Tickets 
URL:https://boconnoc.com/event/charity-gala-dinner-auction-supporting-dive-project-cornwall/
ATTACH;FMTTYPE=image/jpeg:https://boconnoc.com/wp-content/uploads/2023/02/website-138.jpg
END:VEVENT
END:VCALENDAR