BEGIN:VCALENDAR
VERSION:2.0
PRODID:-//Boconnoc House &amp; Estate | Wedding Venue and Accommodation Cornwall - ECPv6.15.18//NONSGML v1.0//EN
CALSCALE:GREGORIAN
METHOD:PUBLISH
X-WR-CALNAME:Boconnoc House &amp; Estate | Wedding Venue and Accommodation Cornwall
X-ORIGINAL-URL:https://boconnoc.com
X-WR-CALDESC:Events for Boconnoc House &amp; Estate | Wedding Venue and Accommodation Cornwall
REFRESH-INTERVAL;VALUE=DURATION:PT1H
X-Robots-Tag:noindex
X-PUBLISHED-TTL:PT1H
BEGIN:VTIMEZONE
TZID:Europe/London
BEGIN:DAYLIGHT
TZOFFSETFROM:+0000
TZOFFSETTO:+0100
TZNAME:BST
DTSTART:20220327T010000
END:DAYLIGHT
BEGIN:STANDARD
TZOFFSETFROM:+0100
TZOFFSETTO:+0000
TZNAME:GMT
DTSTART:20221030T010000
END:STANDARD
BEGIN:DAYLIGHT
TZOFFSETFROM:+0000
TZOFFSETTO:+0100
TZNAME:BST
DTSTART:20230326T010000
END:DAYLIGHT
BEGIN:STANDARD
TZOFFSETFROM:+0100
TZOFFSETTO:+0000
TZNAME:GMT
DTSTART:20231029T010000
END:STANDARD
BEGIN:DAYLIGHT
TZOFFSETFROM:+0000
TZOFFSETTO:+0100
TZNAME:BST
DTSTART:20240331T010000
END:DAYLIGHT
BEGIN:STANDARD
TZOFFSETFROM:+0100
TZOFFSETTO:+0000
TZNAME:GMT
DTSTART:20241027T010000
END:STANDARD
END:VTIMEZONE
BEGIN:VEVENT
DTSTART;TZID=Europe/London:20230201T140000
DTEND;TZID=Europe/London:20230228T170000
DTSTAMP:20260422T093928
CREATED:20230116T123048Z
LAST-MODIFIED:20230116T141937Z
UID:21953-1675260000-1677603600@boconnoc.com
SUMMARY:Exhibition - Collection of works of art and other objects
DESCRIPTION:  \nOn display in the Smoking Room and the Gallery in Boconnoc House will be a collection including portraits of the Mohun Family and the only surviving collection of portraits of the Whig politicians.  \n  \nEntry: £10 to include tea/coffee and biscuits \nBooking is essential via the office\, please call 01208 872 507 or email office@boconnoc.com
URL:https://boconnoc.com/event/exhibition-of-collection-of-works-of-art-and-other-objects-3/
ATTACH;FMTTYPE=image/jpeg:https://boconnoc.com/wp-content/uploads/2023/01/The-Art-Collection2.jpg
END:VEVENT
END:VCALENDAR